    BEGIN:VCALENDAR
VERSION:2.0
PRODID:-//HERZOG Kultur- &amp; Stadtmagazin - ECPv4.9.2//NONSGML v1.0//EN
CALSCALE:GREGORIAN
METHOD:PUBLISH
X-WR-CALNAME:HERZOG Kultur- &amp; Stadtmagazin
X-ORIGINAL-URL:https://www.herzog-magazin.de
X-WR-CALDESC:Veranstaltungen im HERZOG Kultur- &amp; Stadtmagazin
BEGIN:VEVENT
DTSTART;TZID=Europe/Berlin:20260502T143000
DTEND;TZID=Europe/Berlin:20260504T230000
DTSTAMP:20260424T141115
CREATED:20260424T101009Z
LAST-MODIFIED:20260424T101009Z
UID:167721-1777732200-1777935600@www.herzog-magazin.de
SUMMARY:115. Maikirmes in Barmen
DESCRIPTION:Der Mai-Club Barmen feiert vom 2. bis 4. Mai seine traditionelle Maikirmes. Jung und Alt sind bei diesem Fest im beschaulichen Dörflein auf den Beinen\, um mit den Junggesellen die nun seit 115 Jahren bestehenden Maibräuche mitzuerleben. Im Mittelpunkt steht das Königspaar Tim Riesen und Ellen Galka\, sowie ihre Ehrendamen Annika Lathe und Jana Kemmerling. \nDie Barmener Maikirmes beginnt Samstags nachmittags mit dem Abholen des Maibaums auf der alten Mühle\, das dazu einen nostalgischen Rahmen bietet und die aktiven Mitglieder sowie Ehrenmitglieder des Mai-Clubs einlädt\, eine halbe Stunde bei einem Ständchen des Spielmannszugs Lohn und des Trommler- und Pfeifercorps Brachelen  zu verweilen. Danach geht es mit dem Maibaum durch den Ort und schließlich zum Spielplatz vor dem Barmener Kindergarten auf der Steinstraße. Dort wird der mit über 1000 Chrysanthemen geschmückte Maibaum aufgestellt. Danach folgt ab 20 Uhr die „Maiparty“ mit Live-Musik von der „Heartbeat-Coverband“ in der Schützenhalle\, hierzu sind alle Feierlustigen gerne eingeladen. Der Eintritt ist frei\, Spenden werden gerne genommen. \nDie Barmener Junggesellen verabschieden sich samstags schon um Mitternacht aus der Schützenhalle\, um ihren Maifrauen die Sträuße an die Häuser zu hängen. Anschließend wecken die Junggesellen die Dorfbevölkerung in den frühen Morgenstunden.  \nNachdem Besuch der Messe um 9.30 Uhr am Sonntag zieht der Maiclub zum Königspaar in den Steinweg. Hier wird die Königin unter dem Beifall des Mai-Club gekrönt und der Präsident Tobias Bellartz wird Ehrungen der Mitglieder vornehmen. Nachmittags um 14.30 Uhr steht der erste große Festzug auf dem Programm. \nAbends um 19.15 Uhr ziehen dann die Vorstandspaare durch Barmens Straßen zur Schützenhalle. Ist der Vorstand in der Schützenhalle angekommen\, fängt ab 20 Uhr die Tanzveranstaltung an. Während des Abends werden die von den Junggesellen angefertigten Maisträuße prämiert\, zudem findet der Tanz der ehemaligen Königspaare statt. Der Montag beginnt mit einer weiteren Messe um 9.30 Uhr und anschließendem Frühschoppen. Um 19.00 Uhr findet ein weiterer großer Festzug mit allen Vorstandsdamen und dem Gefolge des Königspaares statt. Danach folgt erneut eine große Tanzveranstaltung mit anschließendem  Königswalzer.  \n
URL:https://www.herzog-magazin.de/event/115-maikirmes-in-barmen/
LOCATION:Barmen\, Seestraße\, Jülich-Barmen\, NRW\, 52428\, Deutschland
GEO:50.944795;6.3072626
X-APPLE-STRUCTURED-LOCATION;VALUE=URI;X-ADDRESS=Barmen Seestraße Jülich-Barmen NRW 52428 Deutschland;X-APPLE-RADIUS=500;X-TITLE=Seestraße:geo:6.3072626,50.944795
CATEGORIES:Brauchtum
ATTACH;FMTTYPE=image/jpeg:https://www.herzog-magazin.de/wp-content/uploads/2026/04/1000036278_web.jpg
ORGANIZER;CN="Maiclub%20Barmen":MAILTO:maiclub-barmen@gmx.de
END:VEVENT
END:VCALENDAR