    BEGIN:VCALENDAR
VERSION:2.0
PRODID:-//HERZOG Kultur- &amp; Stadtmagazin - ECPv4.9.2//NONSGML v1.0//EN
CALSCALE:GREGORIAN
METHOD:PUBLISH
X-WR-CALNAME:HERZOG Kultur- &amp; Stadtmagazin
X-ORIGINAL-URL:https://www.herzog-magazin.de
X-WR-CALDESC:Veranstaltungen im HERZOG Kultur- &amp; Stadtmagazin
BEGIN:VEVENT
DTSTART;TZID=Europe/Berlin:20181107T160000
DTEND;TZID=Europe/Berlin:20181107T160000
DTSTAMP:20260423T172019
CREATED:20181016T220343Z
LAST-MODIFIED:20181016T220343Z
UID:16977-1541606400-1541606400@www.herzog-magazin.de
SUMMARY:12. Jülicher Themenabend "Psychische Gesundheit"\, Vortrag:  "Möglichkeiten der Behandlung Posttraumatischer Belastungsstörungen"
DESCRIPTION:Eine Postraumatische Belastungsstörung (PTBS) entsteht durch die Konfrontation mit einer als übermächtig erlebten Gewalt\, von der Körper oder Seele bedroht oder verletzt wurden. Dies kann in unterschiedlicher Weise geschehen\, z.B. als körperliche und/oder sexualisierte Gewalt\, die man erfährt\, aber auch als Zeuge von Ereignissen\, die man als existentiell gefährdend einschätzt. \nBis in die 1990er Jahren hielt man die PTBS für schwer behandelbar\, was sich nun durch neu entwickelte psychotherapeutische Behandlungsverfahren sehr verbessert hat. Trotz dieser positiven Entwicklung bleibt die Behandlung komplexer\, häufig bereits in der Kindheit/Jugend entstandener Taumastörungen eine große Herausforderung. \nIn seinem Vortrag wird der Dipl.- Psychologe Andreas Günther (Leitende Psychologe im Alexianerkrankenhaus Aachen) die Symptomatik einer PTBS und den Ablauf einer klinischen Behandlung vorstellen und dabei wirkungsvolle Therapiemethoden erläutern. Natürlich dürfen Sie dazu auch – wie jedes Mal beim Jülicher Themenabend- Fragen stellen. \nDie Veranstaltung ist kostenlos. Um eine telefonische Anmeldung – mit Angabe der Personenzahl- wird aufgrund der begrenzten Plätze bis Dienstag\, 6.11.2018 gebeten (erfahrungsgemäß sind die Vorträge schnell ausgebucht!) unter der TelNr. 02461- 80567110 \n
URL:https://www.herzog-magazin.de/event/12-juelicher-themenabend-psychische-gesundheit-vortrag-moeglichkeiten-der-behandlung-posttraumatischer-belastungsstoerungen/
CATEGORIES:Vortrag
ATTACH;FMTTYPE=image/jpeg:https://www.herzog-magazin.de/wp-content/uploads/2018/04/borderline-psychology-2001850.jpg
ORGANIZER;CN="Gesundheitsamt%20des%20Kreis%20D%C3%BCren":MAILTO:s.becker@kreis-dueren.de
END:VEVENT
END:VCALENDAR