    BEGIN:VCALENDAR
VERSION:2.0
PRODID:-//HERZOG Kultur- &amp; Stadtmagazin - ECPv4.9.2//NONSGML v1.0//EN
CALSCALE:GREGORIAN
METHOD:PUBLISH
X-WR-CALNAME:HERZOG Kultur- &amp; Stadtmagazin
X-ORIGINAL-URL:https://www.herzog-magazin.de
X-WR-CALDESC:Veranstaltungen im HERZOG Kultur- &amp; Stadtmagazin
BEGIN:VEVENT
DTSTART;TZID=Europe/Berlin:20230420T180000
DTEND;TZID=Europe/Berlin:20230420T180000
DTSTAMP:20260421T132949
CREATED:20230411T112934Z
LAST-MODIFIED:20230411T112951Z
UID:104290-1682013600-1682013600@www.herzog-magazin.de
SUMMARY:Sitzung des Haupt- und Finanzausschusses
DESCRIPTION:Der Haupt- und Finanzausschuss der Stadt Jülich trifft sich am Donnerstag\, 20. April\, im Großen Sitzungssaal des Neuen Rathauses. Sitzungsbeginn ist um 18 Uhr.  \nEs soll unter anderem die Dokumentation Beteiligung Schlossplatz sowie eine weitere Vorgehensweise erörtert werden. Zudem stehen die Errichtung möglicher Fußgängerüberwege (FGÜ) An der Vogelstange\, der Jahresabschluss der Brückenkopf-Park Jülich gGmbH für das Wirtschaftsjahr 2021\, der Jahresbericht der Gleichstellungsstelle für das Jahr 2022 sowie der Zuwendungsbescheid für die Sanierung des Feuerwehrhauses in Koslar auf der Tagesordnung. Weiterhin befasst sich der Ausschuss mit den Bebauungsplänen „Straßenausbau Auf der Klause“ in Stetternich\, „Justinastraße Neu“ in Güsten sowie der „Nachverdichtung Märkische Straße“. \n
URL:https://www.herzog-magazin.de/event/19-sitzung-des-haupt-und-finanzausschusses/
LOCATION:Neues Rathaus\, Große Rurstraße 17\, Jülich\, NRW\, 52428\, Deutschland
GEO:50.92136;6.36263
X-APPLE-STRUCTURED-LOCATION;VALUE=URI;X-ADDRESS=Neues Rathaus Große Rurstraße 17 Jülich NRW 52428 Deutschland;X-APPLE-RADIUS=500;X-TITLE=Große Rurstraße 17:geo:6.36263,50.92136
CATEGORIES:Ausschuss,Politik
ATTACH;FMTTYPE=image/jpeg:https://www.herzog-magazin.de/wp-content/uploads/2023/01/Neues-Rathaus_Foto_Stadt-Gisa-Stein.jpg
ORGANIZER;CN="Stadt%20J%C3%BClich":MAILTO:info@juelich.de
END:VEVENT
END:VCALENDAR