    BEGIN:VCALENDAR
VERSION:2.0
PRODID:-//HERZOG Kultur- &amp; Stadtmagazin - ECPv4.9.2//NONSGML v1.0//EN
CALSCALE:GREGORIAN
METHOD:PUBLISH
X-WR-CALNAME:HERZOG Kultur- &amp; Stadtmagazin
X-ORIGINAL-URL:https://www.herzog-magazin.de
X-WR-CALDESC:Veranstaltungen im HERZOG Kultur- &amp; Stadtmagazin
BEGIN:VEVENT
DTSTART;TZID=Europe/Berlin:20231025T080000
DTEND;TZID=Europe/Berlin:20231025T170000
DTSTAMP:20260420T163353
CREATED:20231013T094647Z
LAST-MODIFIED:20231013T094647Z
UID:116277-1698220800-1698253200@www.herzog-magazin.de
SUMMARY:19. Sitzung des Integrationsrates
DESCRIPTION:Eine öffentliche Sitzung des Integrationsrates der Stadt Jülich findet am Mittwoch\, 25. Oktober\, statt. Die Sitzung tagt ab 19 Uhr im Großen Sitzungssaal des Neuen Rathauses. \nWeitere Infos zur Tagesordnung sind unter https://ratsinfo.juelich.de/tops/?__=UGhVM0hpd2NXNFdFcExjZSAl86p8jB9mCUfqHwDuugw zu finden. \n
URL:https://www.herzog-magazin.de/event/19-sitzung-des-integrationsrates/
LOCATION:Neues Rathaus\, Große Rurstraße 17\, Jülich\, NRW\, 52428\, Deutschland
GEO:50.92136;6.36263
X-APPLE-STRUCTURED-LOCATION;VALUE=URI;X-ADDRESS=Neues Rathaus Große Rurstraße 17 Jülich NRW 52428 Deutschland;X-APPLE-RADIUS=500;X-TITLE=Große Rurstraße 17:geo:6.36263,50.92136
CATEGORIES:Ausschuss,Chancengleichheit,Diversität,Inklusion,Integration,Politik
ATTACH;FMTTYPE=image/jpeg:https://www.herzog-magazin.de/wp-content/uploads/2023/05/Neues-Rathaus_Foto_Stadt-Gisa-Stein.jpg
ORGANIZER;CN="Stadt%20J%C3%BClich":MAILTO:info@juelich.de
END:VEVENT
END:VCALENDAR