    BEGIN:VCALENDAR
VERSION:2.0
PRODID:-//HERZOG Kultur- &amp; Stadtmagazin - ECPv4.9.2//NONSGML v1.0//EN
CALSCALE:GREGORIAN
METHOD:PUBLISH
X-WR-CALNAME:HERZOG Kultur- &amp; Stadtmagazin
X-ORIGINAL-URL:https://www.herzog-magazin.de
X-WR-CALDESC:Veranstaltungen im HERZOG Kultur- &amp; Stadtmagazin
BEGIN:VEVENT
DTSTART;TZID=Europe/Berlin:20190630T110000
DTEND;TZID=Europe/Berlin:20190630T000000
DTSTAMP:20260425T031728
CREATED:20190614T135744Z
LAST-MODIFIED:20190614T135915Z
UID:25826-1561892400-1561852800@www.herzog-magazin.de
SUMMARY:2. Chinafest in Jülich
DESCRIPTION:Das 2. Chinafest findet am Sonntag\, 30. Juni\, ab 11 Uhr auf dem Kirchplatz in Jülich statt. Ausrichter sind der Chinesische Kulturverein Jülich e.V.\, der Verband der Chinesischen Wissenschaftler und Studenten in Jülich sowie der Verband der Chinesischen Wissenschaftler und Studenten im Forschungszentrum. Auf dem Kirchplatz erwartet die Besucher ein abwechslungsreiches Programm\, das ins kulturelle und kulinarische Reich der Mitte entführt. \n
URL:https://www.herzog-magazin.de/event/2-chinafest-in-juelich/
LOCATION:Marktplatz\, Jülich\, NRW\, 52428\, Deutschland
GEO:50.9418933;6.3944308
CATEGORIES:Festival & Markt,kulturelle Bildung,Musik
ATTACH;FMTTYPE=image/jpeg:https://www.herzog-magazin.de/wp-content/uploads/2019/06/2.-Chinafest-Jülich-Plakat.jpg
ORGANIZER;CN="chinesischer%20Kulturverein%20e.V.%20J%C3%BClich":MAILTO:info@chinaverein.com
END:VEVENT
END:VCALENDAR