    BEGIN:VCALENDAR
VERSION:2.0
PRODID:-//HERZOG Kultur- &amp; Stadtmagazin - ECPv4.9.2//NONSGML v1.0//EN
CALSCALE:GREGORIAN
METHOD:PUBLISH
X-WR-CALNAME:HERZOG Kultur- &amp; Stadtmagazin
X-ORIGINAL-URL:https://www.herzog-magazin.de
X-WR-CALDESC:Veranstaltungen im HERZOG Kultur- &amp; Stadtmagazin
BEGIN:VEVENT
DTSTART;TZID=Europe/Berlin:20190929T103000
DTEND;TZID=Europe/Berlin:20190929T160000
DTSTAMP:20260423T011821
CREATED:20190921T121900Z
LAST-MODIFIED:20190921T121941Z
UID:29433-1569753000-1569772800@www.herzog-magazin.de
SUMMARY:2. Dürener Mädelsflohmarkt im Bildungsforum
DESCRIPTION:„Vintage-Mode auf zwei Etagen und kulinarische Kleinigkeiten von Profikoch Marc Breuer“ gibt es beim „2. Dürener Mädelsflohmarkt“  am Sonntag\, 29. September\, von 10:30 bis 16:00 Uhr im Bildungsforum in Düren\, Holzstraße 50. Für interessierte Aussteller hat Initiatorin Pia Perino noch freie Standplätze: „Mit Kleidung\, Schuhen\, Schmuck\, Taschen\, Deko und Accessoires wollen wir vor allem das junge Publikum der 15- bis 35-Jährigen ansprechen.“  \nDie Standgebühr ist 15 Euro für 3 Meter\, mit Tisch 25 Euro. Interessierte melden sich per E-Mail bei: info@bildungsforum-dueren.de oder direkt bei Pia Perino über Instagramm / Facebook. Weitere Auskünfte auch telefonisch unter 02421 / 94680.  \n
URL:https://www.herzog-magazin.de/event/2-duerener-maedelsflohmarkt-im-bildungsforum-dueren/
LOCATION:Katholisches Bildungsforum für Erwachsen- und Familienbildung Düren und Eifel\, Holzstraße 50\, Düren\, NRW\, 52349\, Deutschland
GEO:50.8014792;6.4760059
X-APPLE-STRUCTURED-LOCATION;VALUE=URI;X-ADDRESS=Katholisches Bildungsforum für Erwachsen- und Familienbildung Düren und Eifel Holzstraße 50 Düren NRW 52349 Deutschland;X-APPLE-RADIUS=500;X-TITLE=Holzstraße 50:geo:6.4760059,50.8014792
CATEGORIES:Festival & Markt,für Frauen
ATTACH;FMTTYPE=image/jpeg:https://www.herzog-magazin.de/wp-content/uploads/2019/09/Mädelsflohmarkt-Foto-Hempel-Netz.jpg
ORGANIZER;CN="Katholisches%20Forum%20f%C3%BCr%20Erwachsenen%20und%20Familienbildung":MAILTO:info@bildungsforum-dueren.de
END:VEVENT
END:VCALENDAR