    BEGIN:VCALENDAR
VERSION:2.0
PRODID:-//HERZOG Kultur- &amp; Stadtmagazin - ECPv4.9.2//NONSGML v1.0//EN
CALSCALE:GREGORIAN
METHOD:PUBLISH
X-WR-CALNAME:HERZOG Kultur- &amp; Stadtmagazin
X-ORIGINAL-URL:https://www.herzog-magazin.de
X-WR-CALDESC:Veranstaltungen im HERZOG Kultur- &amp; Stadtmagazin
BEGIN:VEVENT
DTSTART;TZID=Europe/Berlin:20260414T170000
DTEND;TZID=Europe/Berlin:20260414T170000
DTSTAMP:20260420T070549
CREATED:20250306T100134Z
LAST-MODIFIED:20260305T112207Z
UID:143878-1776186000-1776186000@www.herzog-magazin.de
SUMMARY:2. Runder Tisch im Kampf gegen Sepsis
DESCRIPTION:Nach dem erfolgreichen Auftakt findet am Dienstag\, 14. April zum 2. mal der Runde Tisch\nim Kampf gegen Sepsis in der Vorreiterregion NRW Jülich statt.\nZiel ist es\, gemeinsam eine regionale Sepsis-Strategie weiterzuentwickeln. Aufbauend auf den bisherigen Gesprächen und Planungen soll der Fokus auf konkrete erste Schritte gelegt werden\, die von den Beteiligten bereits angestoßen wurden oder geplant sind. Dies soll den Austausch fördern\, Synergien sichtbar machen und eine koordinierte Vorgehensweise ermöglichen.\n\nDer Runde Tisch findet statt um 17 Uhr im Großen Ratssaal in der Stadtverwaltung\, Große Rurstr.17.\n\n
URL:https://www.herzog-magazin.de/event/2-runder-tisch-im-kampf-gegen-sepsis/
LOCATION:Neues Rathaus\, Große Rurstraße 17\, Jülich\, NRW\, 52428\, Deutschland
GEO:50.92136;6.36263
X-APPLE-STRUCTURED-LOCATION;VALUE=URI;X-ADDRESS=Neues Rathaus Große Rurstraße 17 Jülich NRW 52428 Deutschland;X-APPLE-RADIUS=500;X-TITLE=Große Rurstraße 17:geo:6.36263,50.92136
CATEGORIES:Gesundheit,Hilfsaktion,Informationsveranstaltung
ATTACH;FMTTYPE=image/jpeg:https://www.herzog-magazin.de/wp-content/uploads/2025/03/Juelich_gegen_Sepsis.jpg
END:VEVENT
END:VCALENDAR