    BEGIN:VCALENDAR
VERSION:2.0
PRODID:-//HERZOG Kultur- &amp; Stadtmagazin - ECPv4.9.2//NONSGML v1.0//EN
CALSCALE:GREGORIAN
METHOD:PUBLISH
X-WR-CALNAME:HERZOG Kultur- &amp; Stadtmagazin
X-ORIGINAL-URL:https://www.herzog-magazin.de
X-WR-CALDESC:Veranstaltungen im HERZOG Kultur- &amp; Stadtmagazin
BEGIN:VEVENT
DTSTART;TZID=Europe/Berlin:20260507T180000
DTEND;TZID=Europe/Berlin:20260507T180000
DTSTAMP:20260424T184729
CREATED:20260420T114240Z
LAST-MODIFIED:20260420T115200Z
UID:167474-1778176800-1778176800@www.herzog-magazin.de
SUMMARY:3. Sitzung des JuFISSS-Ausschusses
DESCRIPTION:Eine öffentliche Sitzung des Ausschusses für Jugend\, Familie\, Integration\, Soziales\, Schule und Sport der Stadt Jülich findet am Donnerstag\, 7. Mai\, statt. \nDie Sitzung tagt ab 18 Uhr im Großen Sitzungssaal des Neuen Rathauses. Weitere Infos zur Tagesordnung sind unter https://ratsinfo.juelich.de/tops/?__=UGhVM0hpd2NXNFdFcExjZTlfOuwbX2-qPPEfQUCy9Tc zu finden. \n
URL:https://www.herzog-magazin.de/event/3-sitzung-des-jufisss-ausschusses/
LOCATION:Neues Rathaus\, Große Rurstraße 17\, Jülich\, NRW\, 52428\, Deutschland
GEO:50.92136;6.36263
X-APPLE-STRUCTURED-LOCATION;VALUE=URI;X-ADDRESS=Neues Rathaus Große Rurstraße 17 Jülich NRW 52428 Deutschland;X-APPLE-RADIUS=500;X-TITLE=Große Rurstraße 17:geo:6.36263,50.92136
CATEGORIES:Ausschuss,Politik
ATTACH;FMTTYPE=image/jpeg:https://www.herzog-magazin.de/wp-content/uploads/2023/05/Neues-Rathaus_Foto_Stadt-Gisa-Stein.jpg
ORGANIZER;CN="Stadt%20J%C3%BClich":MAILTO:info@juelich.de
END:VEVENT
END:VCALENDAR