    BEGIN:VCALENDAR
VERSION:2.0
PRODID:-//HERZOG Kultur- &amp; Stadtmagazin - ECPv4.9.2//NONSGML v1.0//EN
CALSCALE:GREGORIAN
METHOD:PUBLISH
X-WR-CALNAME:HERZOG Kultur- &amp; Stadtmagazin
X-ORIGINAL-URL:https://www.herzog-magazin.de
X-WR-CALDESC:Veranstaltungen im HERZOG Kultur- &amp; Stadtmagazin
BEGIN:VEVENT
DTSTART;TZID=Europe/Berlin:20190627T180000
DTEND;TZID=Europe/Berlin:20190627T000000
DTSTAMP:20260424T154418
CREATED:20190618T160756Z
LAST-MODIFIED:20190618T160756Z
UID:26020-1561658400-1561593600@www.herzog-magazin.de
SUMMARY:36. Planungs-\, Umwelt- und Bauausschuss der Stadt Jülich
DESCRIPTION:Der Planungs-\, Umwelt- und Bauausschuss der Stadt Jülich trifft sich zu seiner 36. Sitzung am Donnerstag\, 27. Juni\, 18:00 Uhr\, im Großen Sitzungssaal des Neuen Rathauses. Auf der Tagesordnung stehen unter anderem die Ausweisung von Konzentrationsflächen für Windenergie und der Park Pasqualini. \n
URL:https://www.herzog-magazin.de/event/36-planungs-umwelt-und-bauausschuss-der-stadt-juelich/
LOCATION:Neues Rathaus\, Große Rurstraße 17\, Jülich\, NRW\, 52428\, Deutschland
GEO:50.92136;6.36263
X-APPLE-STRUCTURED-LOCATION;VALUE=URI;X-ADDRESS=Neues Rathaus Große Rurstraße 17 Jülich NRW 52428 Deutschland;X-APPLE-RADIUS=500;X-TITLE=Große Rurstraße 17:geo:6.36263,50.92136
CATEGORIES:Politik,Sonstiges
ATTACH;FMTTYPE=image/jpeg:https://www.herzog-magazin.de/wp-content/uploads/2017/11/Stadt-Juelich.jpg
ORGANIZER;CN="Stadt%20J%C3%BClich":MAILTO:info@juelich.de
END:VEVENT
END:VCALENDAR