    BEGIN:VCALENDAR
VERSION:2.0
PRODID:-//HERZOG Kultur- &amp; Stadtmagazin - ECPv4.9.2//NONSGML v1.0//EN
CALSCALE:GREGORIAN
METHOD:PUBLISH
X-WR-CALNAME:HERZOG Kultur- &amp; Stadtmagazin
X-ORIGINAL-URL:https://www.herzog-magazin.de
X-WR-CALDESC:Veranstaltungen im HERZOG Kultur- &amp; Stadtmagazin
BEGIN:VEVENT
DTSTART;TZID=Europe/Berlin:20251122T103000
DTEND;TZID=Europe/Berlin:20251122T103000
DTSTAMP:20260421T215105
CREATED:20251006T101351Z
LAST-MODIFIED:20251023T104548Z
UID:155204-1763807400-1763807400@www.herzog-magazin.de
SUMMARY:40 Jahre Arbeitskreis Asyl Jülich e.V.
DESCRIPTION:Wer praktische Integration erleben möchte\, der kann seit zehn Jahren in das monatliche Café Contact kommen. Ein Austausch mit und für geflüchtete Menschen\, der seit vielen Jahren das Gefühl des Willkommenseins unterstützt. \nWie positiv sich das Zugehörigkeitsgefühl auf den Spracherwerb\, aber auch auf die Aufnahme von Erwerbstätigkeit auswirkt\, wird beim 40-jährigen Jubiläum am Samstag\, 22. November um 10.30 Uhr im Dietrich-Bonhoeffer-Haus gezeigt und diskutiert mit Talkrunde\, Informationen und Austausch bei Kaffee und internationalem Fingerfood. \n
URL:https://www.herzog-magazin.de/event/40-jahre-arbeitskreis-asyl-juelich-e-v/
LOCATION:Dietrich-Bonhoeffer-Haus\, Düsseldorfer Straße 30\, Jülich\, NRW\, 52428\, Deutschland
GEO:50.924319;6.3564769
X-APPLE-STRUCTURED-LOCATION;VALUE=URI;X-ADDRESS=Dietrich-Bonhoeffer-Haus Düsseldorfer Straße 30 Jülich NRW 52428 Deutschland;X-APPLE-RADIUS=500;X-TITLE=Düsseldorfer Straße 30:geo:6.3564769,50.924319
CATEGORIES:Essen & Trinken,Integration,kulturelle Bildung
ATTACH;FMTTYPE=image/jpeg:https://www.herzog-magazin.de/wp-content/uploads/2022/11/Dietrich-Bonhoeffer-Haus-Netz-Foto-PuKBSuS.jpg
ORGANIZER;CN="Evangelische%20Kirchengemeinde%20J%C3%BClich":MAILTO:juelich@ekir.de
END:VEVENT
END:VCALENDAR