    BEGIN:VCALENDAR
VERSION:2.0
PRODID:-//HERZOG Kultur- &amp; Stadtmagazin - ECPv4.9.2//NONSGML v1.0//EN
CALSCALE:GREGORIAN
METHOD:PUBLISH
X-WR-CALNAME:HERZOG Kultur- &amp; Stadtmagazin
X-ORIGINAL-URL:https://www.herzog-magazin.de
X-WR-CALDESC:Veranstaltungen im HERZOG Kultur- &amp; Stadtmagazin
BEGIN:VEVENT
DTSTART;TZID=Europe/Berlin:20230915T160000
DTEND;TZID=Europe/Berlin:20230915T170000
DTSTAMP:20260423T062935
CREATED:20230816T180012Z
LAST-MODIFIED:20230816T180012Z
UID:112454-1694793600-1694797200@www.herzog-magazin.de
SUMMARY:45 Jahre Kunstverein Jülich
DESCRIPTION:Zu seinem „kleinen“ Jubiläum von 45 Jahren lädt der Kunstverein Jülich in den Hexenturm\, Kleine Rurstraße\, ein. Es soll ein willkommener Anlass sein\, die Arbeit des Kunstvereins in den Blick zu nehmen und insbesondere das zu zeigen\, was außerhalb der großen Ausstellungen gern genutzt wird. Zu sehen sind Arbeitsergebnisse und Fotos mit Einblicken in die pädagogische Arbeit mit Kindern der Villa Kunterbunt\, Reisen zur Kunst\, Beispiele für die Kursangebote künstlerischen Gestaltens sowie Beispiele für die Zusammenarbeit mit älteren Menschen.  \nDie Reihe „45 Jahre Kunstverein“ beginnt am Freitag\, 15. September\, um 16 Uhr mit der Eröffnung der Ausstellung. Die Begrüßung hält Peer Kling. Bürgermeister Axel Fuchs kommt auf ein Grußwort vorbei. Danach geht es open end mit Musik und kleinen Einlagen weiter. \nDas kleine Jubiläum wird am Samstag\, 16. September von 11 bis 17 Uhr mit Ausstellungsbesichtigung und Führungen fortgesetzt. Eine Matinee mit Zukunftsperspektiven des Kunstvereins unter Moderation von Dr. Dirk Tölke ist am Sonntag\, 17. September\, um 11 Uhr geplant. Die Öffnungszeiten des Hexenturms sind am Samstag und Sonntag jeweils von 11 bis 17 Uhr.  \n
URL:https://www.herzog-magazin.de/event/45-jahre-kunstverein-juelich/2023-09-15/
LOCATION:Hexenturm\, Walramplatz\, Jülich\, 52428
GEO:50.9206663;6.3551803
X-APPLE-STRUCTURED-LOCATION;VALUE=URI;X-ADDRESS=Hexenturm Walramplatz Jülich 52428;X-APPLE-RADIUS=500;X-TITLE=Walramplatz:geo:6.3551803,50.9206663
CATEGORIES:Ausstellung,Fotografie,kulturelle Bildung,Kunst & Design
ATTACH;FMTTYPE=image/jpeg:https://www.herzog-magazin.de/wp-content/uploads/2023/08/45Jahre_KunstvereinJuelich.jpg
ORGANIZER;CN="Kunstverein%20J%C3%BClich%20e.V.":MAILTO:kimuleh@gmx.de
END:VEVENT
END:VCALENDAR