    BEGIN:VCALENDAR
VERSION:2.0
PRODID:-//HERZOG Kultur- &amp; Stadtmagazin - ECPv4.9.2//NONSGML v1.0//EN
CALSCALE:GREGORIAN
METHOD:PUBLISH
X-WR-CALNAME:HERZOG Kultur- &amp; Stadtmagazin
X-ORIGINAL-URL:https://www.herzog-magazin.de
X-WR-CALDESC:Veranstaltungen im HERZOG Kultur- &amp; Stadtmagazin
BEGIN:VEVENT
DTSTART;TZID=Europe/Berlin:20191019T200000
DTEND;TZID=Europe/Berlin:20191019T200000
DTSTAMP:20260425T040243
CREATED:20191007T092754Z
LAST-MODIFIED:20191007T092754Z
UID:29802-1571515200-1571515200@www.herzog-magazin.de
SUMMARY:7. Euregio Jazz Festival
DESCRIPTION:Wenn aus den Gaststätten Jazzklänge auf die Straße dringen und auf dem Weg durch die Stadt der Gang „swingig“ wird\, dann weht ein Hauch von New Orleans durch Jülich…  Vier Jazzlubs der Region haben sich vor vielen Jahren in einer AG zusammen getan\, um über die Ländergrenzen hinweg Jazzveranstaltungen zu organisieren und zu kooperieren. Ergebnis ist unter anderem das Euregio Jazz Festival\, das nun schon zum siebten Mal stattfindet\, davon sechs Mal in der Herzogstadt.  In diesem Jahr bespielen „Sun Lane Ltd“ die Bühne im Liebevoll\, das Café Fleur erwartet die „For Stream Jazzband“\, im Caseus & Vinum tritt das „Rivaval Quartett auf\, im Café Extrablatt die „Barrelhouse Jazzband“ und im Bistro Schwanenteich „Niek & Friends“.  \nNäheres auf der Homepage des Jazzclub Jülich \n
URL:https://www.herzog-magazin.de/event/7-euregio-jazz-festival/
LOCATION:Innenstadt Jülich\, Marktplatz\, Jülich\, NRW\, 52428\, Deutschland
GEO:50.9218687;6.3578988
X-APPLE-STRUCTURED-LOCATION;VALUE=URI;X-ADDRESS=Innenstadt Jülich Marktplatz Jülich NRW 52428 Deutschland;X-APPLE-RADIUS=500;X-TITLE=Marktplatz:geo:6.3578988,50.9218687
CATEGORIES:Festival & Markt,Musik,Musik & Konzerte
ATTACH;FMTTYPE=image/jpeg:https://www.herzog-magazin.de/wp-content/uploads/2019/10/jue-euregio-jazzfestival2.jpg
ORGANIZER;CN="Jazzclub%20J%C3%BClich%20e.V.":MAILTO:jueljazz@web.de
END:VEVENT
END:VCALENDAR