    BEGIN:VCALENDAR
VERSION:2.0
PRODID:-//HERZOG Kultur- &amp; Stadtmagazin - ECPv4.9.2//NONSGML v1.0//EN
CALSCALE:GREGORIAN
METHOD:PUBLISH
X-WR-CALNAME:HERZOG Kultur- &amp; Stadtmagazin
X-ORIGINAL-URL:https://www.herzog-magazin.de
X-WR-CALDESC:Veranstaltungen im HERZOG Kultur- &amp; Stadtmagazin
BEGIN:VEVENT
DTSTART;TZID=Europe/Berlin:20230128T191100
DTEND;TZID=Europe/Berlin:20230128T235000
DTSTAMP:20260425T114016
CREATED:20230104T170512Z
LAST-MODIFIED:20230109T172308Z
UID:95946-1674933060-1674949800@www.herzog-magazin.de
SUMMARY:Kostümsitzung der KG Bärmer Sandhase
DESCRIPTION:Die KG Bärmer Sandhase laden ein und es sind noch Karten zu haben! Am Samstag\, 28. Januar\, findet in der Schützenhalle Barmen das erste Mal seit drei Jahren wieder die Große Kostümsitzung statt. Der Einlass beginnt um 18 Uhr. Das jecke Programm startet um 19.11 Uhr.  \nWer dabei sein möchte\, kann sich auf die vereinseigenen Tanzgruppen\, Büttenredner\, kölsche Musik und viel gute Laune freuen. Auf dem Programm stehen unter anderem Kölschraum\, Ne bonte Pitter\, der Landmetzger\, Ne Schwaadlappe\, das Fanfarencorps Rote Funken\, die Fidele Kölsche\, die Scharwache Eschweiler\, die Bauchrednershow Werner & Dodo sowie die Tanzgruppen der KG Miniprinzen\, Hearbreaker\, Black Illusion\, Ladys in Jeck\, die Drieschboys sowie die Solomariechen Fanny und Leonie. \nDie Karten sind für je 22 Euro bei Stefanie Mackedanz unter Tel.02461 / 9869993 oder E-Mail geschaeftsfuehrung@baermersandhase.de erhältlich. \n
URL:https://www.herzog-magazin.de/event/95946/
LOCATION:Schützenhalle Barmen\, Herrenstraße 25\, Jülich-Barmen\, NRW\, 52428\, Deutschland
GEO:50.94454;6.30091
X-APPLE-STRUCTURED-LOCATION;VALUE=URI;X-ADDRESS=Schützenhalle Barmen Herrenstraße 25 Jülich-Barmen NRW 52428 Deutschland;X-APPLE-RADIUS=500;X-TITLE=Herrenstraße 25:geo:6.30091,50.94454
CATEGORIES:Brauchtum,Kabarett & Comedy,Musik,Musik & Konzerte,Tanz
ATTACH;FMTTYPE=image/jpeg:https://www.herzog-magazin.de/wp-content/uploads/2023/01/KG-Baermer-Sandhase-Logo.jpg
ORGANIZER;CN="KG%20B%C3%A4rmer%20Sandhase%201991%20e.V.":MAILTO:vorsitzender@baermersandhase.de
END:VEVENT
END:VCALENDAR