    BEGIN:VCALENDAR
VERSION:2.0
PRODID:-//HERZOG Kultur- &amp; Stadtmagazin - ECPv4.9.2//NONSGML v1.0//EN
CALSCALE:GREGORIAN
METHOD:PUBLISH
X-WR-CALNAME:HERZOG Kultur- &amp; Stadtmagazin
X-ORIGINAL-URL:https://www.herzog-magazin.de
X-WR-CALDESC:Veranstaltungen im HERZOG Kultur- &amp; Stadtmagazin
BEGIN:VEVENT
DTSTART;TZID=Europe/Berlin:20191021T170000
DTEND;TZID=Europe/Berlin:20191021T190000
DTSTAMP:20260425T160420
CREATED:20190919T084159Z
LAST-MODIFIED:20190919T084159Z
UID:29278-1571677200-1571684400@www.herzog-magazin.de
SUMMARY:A Toy Story: Alles hört auf kein Kommando
DESCRIPTION:Animation/Trick\, Familie\, Komödie | USA 2019 | FSK: o.A. | Regie: Josh Cooley \nDie beliebtesten Spielzeuge der Filmgeschichte sind endlich zurück auf der großen Kinoleinwand! Woody hat in Bonnies Kinderzimmer ein Zuhause gefunden und genießt sein ruhiges Cowboy- Dasein\, bis ihm Bonnie einen neuen und sehr speziellen Mitbewohner präsentiert: Forky! Eines wird bald klar: Mit Forky in der Spielzeugkiste bleibt nichts wie es war! Denn Forky hat eine schwere Identitätskrise und ist davon überzeugt\, kein Spielzeug zu sein. Doch was ist er dann? Müll? Forky ist sich jedenfalls sicher für etwas anderes bestimmt zu sein. Und das versucht er auf halsbrecherische Art zu beweisen. Schon bald geht es auf in ein außergewöhnliches Abenteuer\, auf dem die Freunde auch auf Spielzeuge der anderen Art treffen: Ducky und Bunny sind vorlaute Jahrmarkt-Stofftiere\, die mit einer großen Klappe und einem noch größeren Ego darauf warten gewonnen zu werden. Zusammen mit alten und neuen Freunden erleben Forky und Woody den Roadtrip ihres Lebens und lernen dabei\, dass die Welt für ein Spielzeug viel größer ist als jemals gedacht. \nEigentlich wollte das Pixar-Animationsstudio nie Fortsetzungen drehen\, doch der kommerzielle Druck war zu groß. Das auch „A Toy Story: Alles hört auf kein Kommando“\, der vierte Teil der „Toy Story“\, nicht nur Geldmacherei ist\, sondern ein erstaunlicher\, tief berührender\, stilistisch außerordentlicher Film zeigt nach einigen durchwachsenen Filmen\, zu welcher Klasse Pixar immer noch fähig ist. (programmkino.de) \n
URL:https://www.herzog-magazin.de/event/a-toy-story-alles-hoert-auf-kein-kommando/2019-10-21/
LOCATION:Kulturbahnhof (KuBa) Jülich\, Bahnhofsstraße 13\, Jülich\, NRW\, 52428\, Deutschland
GEO:50.91828;6.36768
X-APPLE-STRUCTURED-LOCATION;VALUE=URI;X-ADDRESS=Kulturbahnhof (KuBa) Jülich Bahnhofsstraße 13 Jülich NRW 52428 Deutschland;X-APPLE-RADIUS=500;X-TITLE=Bahnhofsstraße 13:geo:6.36768,50.91828
CATEGORIES:für Kinder,Kino
ATTACH;FMTTYPE=image/jpeg:https://www.herzog-magazin.de/wp-content/uploads/2019/09/maxresdefault-4.jpg
ORGANIZER;CN="KuBa%20J%C3%BClich":MAILTO:info@kuba-juelich.de
END:VEVENT
END:VCALENDAR