    BEGIN:VCALENDAR
VERSION:2.0
PRODID:-//HERZOG Kultur- &amp; Stadtmagazin - ECPv4.9.2//NONSGML v1.0//EN
CALSCALE:GREGORIAN
METHOD:PUBLISH
X-WR-CALNAME:HERZOG Kultur- &amp; Stadtmagazin
X-ORIGINAL-URL:https://www.herzog-magazin.de
X-WR-CALDESC:Veranstaltungen im HERZOG Kultur- &amp; Stadtmagazin
BEGIN:VEVENT
DTSTART;TZID=Europe/Berlin:20191130T190000
DTEND;TZID=Europe/Berlin:20191130T190000
DTSTAMP:20260420T230340
CREATED:20191125T142549Z
LAST-MODIFIED:20191125T142549Z
UID:31641-1575140400-1575140400@www.herzog-magazin.de
SUMMARY:Acapella-Adventskonzert in Overbach
DESCRIPTION:Eine Adventskonzert mit „Room One“ findet am Samstag\, 30. November\, ab 19:00 Uhr in der Klosterkirche von Haus Overbach statt. Der Eintritt ist frei. Im besinnlichen Winterprogramm des Kölner Vokalensembles „Room One“ erwartet das Publikum ein kompaktes Programm an ausgewählten Stücken\, die mal weihnachtlicher\, mal alltäglich sind und Geschichten erzählen.  \nDie Gruppe junger Sängerinnen und Sänger von der Kölner Musikhochschule – zum Teil ehemalige Overbacher – leitet die Weihnachtszeit in Overbach mit diesem spannenden Gastauftritt ein. An diesem Programm für eine solche Gesangsgruppe besonders: Alles wird unverstärkt gesungen\, es gibt keine Technik und keine Mikrofonierung und so steht der Unmittelbarkeit eines dichten Abends voll atmosphärischer Vokalmusik nichts mehr im Wege. \n
URL:https://www.herzog-magazin.de/event/acapella-adventskonzert-in-overbach/
LOCATION:Klosterkirche Haus Overbach\, Franz-von-Sales-Weg\, Barmen\, NRW\, 52428\, Deutschland
GEO:50.9417792;6.3109234
X-APPLE-STRUCTURED-LOCATION;VALUE=URI;X-ADDRESS=Klosterkirche Haus Overbach Franz-von-Sales-Weg Barmen NRW 52428 Deutschland;X-APPLE-RADIUS=500;X-TITLE=Franz-von-Sales-Weg:geo:6.3109234,50.9417792
CATEGORIES:Musik,Musik & Konzerte
ATTACH;FMTTYPE=image/jpeg:https://www.herzog-magazin.de/wp-content/uploads/2019/11/Room-One-Netz.jpg
END:VEVENT
END:VCALENDAR