    BEGIN:VCALENDAR
VERSION:2.0
PRODID:-//HERZOG Kultur- &amp; Stadtmagazin - ECPv4.9.2//NONSGML v1.0//EN
CALSCALE:GREGORIAN
METHOD:PUBLISH
X-WR-CALNAME:HERZOG Kultur- &amp; Stadtmagazin
X-ORIGINAL-URL:https://www.herzog-magazin.de
X-WR-CALDESC:Veranstaltungen im HERZOG Kultur- &amp; Stadtmagazin
BEGIN:VEVENT
DTSTART;TZID=Europe/Berlin:20221216T160000
DTEND;TZID=Europe/Berlin:20221216T170000
DTSTAMP:20260425T001530
CREATED:20221128T131843Z
LAST-MODIFIED:20221128T131843Z
UID:94481-1671206400-1671210000@www.herzog-magazin.de
SUMMARY:Adventliches Schulkonzert
DESCRIPTION:Die GGS Jülich-West veranstaltet am Freitag\, 16. Dezember ein Adventliches Schulkonzert. \nStart ist um 16 Uhr in St. Adelgundis Koslar. \n
URL:https://www.herzog-magazin.de/event/adventliches-schulkonzert/
LOCATION:Kirche St. Adelgundis\, Friedhofstraße\, Koslar\, NRW\, 52428\, Deutschland
GEO:50.9273881;6.3152879
X-APPLE-STRUCTURED-LOCATION;VALUE=URI;X-ADDRESS=Kirche St. Adelgundis Friedhofstraße Koslar NRW 52428 Deutschland;X-APPLE-RADIUS=500;X-TITLE=Friedhofstraße:geo:6.3152879,50.9273881
CATEGORIES:Musik,Musik & Konzerte,Religion,Schule
ATTACH;FMTTYPE=image/jpeg:https://www.herzog-magazin.de/wp-content/uploads/2021/01/christmas-3882226_1280.jpg
ORGANIZER;CN="Gemeinschaftsgrundschule%20GGS%20West":MAILTO:verwaltung@ggs-juelich-west.de
END:VEVENT
END:VCALENDAR