    BEGIN:VCALENDAR
VERSION:2.0
PRODID:-//HERZOG Kultur- &amp; Stadtmagazin - ECPv4.9.2//NONSGML v1.0//EN
CALSCALE:GREGORIAN
METHOD:PUBLISH
X-WR-CALNAME:HERZOG Kultur- &amp; Stadtmagazin
X-ORIGINAL-URL:https://www.herzog-magazin.de
X-WR-CALDESC:Veranstaltungen im HERZOG Kultur- &amp; Stadtmagazin
BEGIN:VEVENT
DTSTART;TZID=Europe/Berlin:20191129T140000
DTEND;TZID=Europe/Berlin:20191129T180000
DTSTAMP:20260421T192919
CREATED:20191105T133142Z
LAST-MODIFIED:20191105T133142Z
UID:30754-1575036000-1575050400@www.herzog-magazin.de
SUMMARY:Adventsbasar in der Schirmerschule
DESCRIPTION:Die Schirmerschule Jülich lädt auch in diesem Jahr am Freitag\, 29. November von 14:00 bis 18:00 Uhr zum vorweihnachtlichen Zusammensein in die Linnicher Straße 62 ein. Der Adventsbasar steht in diesem Jahr unter dem Motto „Bunter Mitmach-Advent“.  \nAttraktionen wie ein Auftritt der Schülerband und eine kleine weihnachtliche Aufführung\, verschiedene Bastel- und Kreativstände\, der Verkauf von weihnachtlichen Handwerksarbeiten und verschiedenen Leckereien begleiten die Besucher durch einen schönen\, ereignisreichen und vor allem gemeinsamen Nachmittag. Ob groß\, ob klein\, ob jung oder alt – die Türen der Schirmerschule sind für alle Interessierten geöffnet. \nWeitere Informationen sind im Internet auf www.schirmerschule.de zu finden. \n
URL:https://www.herzog-magazin.de/event/adventsbasar-in-der-schirmerschule/
LOCATION:Schirmerschule Jülich\, Linnicher Straße 62\, Jülich\, NRW\, 52428\, Deutschland
CATEGORIES:Schule
ATTACH;FMTTYPE=image/jpeg:https://www.herzog-magazin.de/wp-content/uploads/2018/11/Weihnachten-in-Jülich.jpg
END:VEVENT
END:VCALENDAR