    BEGIN:VCALENDAR
VERSION:2.0
PRODID:-//HERZOG Kultur- &amp; Stadtmagazin - ECPv4.9.2//NONSGML v1.0//EN
CALSCALE:GREGORIAN
METHOD:PUBLISH
X-WR-CALNAME:HERZOG Kultur- &amp; Stadtmagazin
X-ORIGINAL-URL:https://www.herzog-magazin.de
X-WR-CALDESC:Veranstaltungen im HERZOG Kultur- &amp; Stadtmagazin
BEGIN:VEVENT
DTSTART;TZID=Europe/Berlin:20191130T180000
DTEND;TZID=Europe/Berlin:20191130T180000
DTSTAMP:20260420T230340
CREATED:20191013T173326Z
LAST-MODIFIED:20191013T173326Z
UID:30101-1575136800-1575136800@www.herzog-magazin.de
SUMMARY:Adventskonzert mit Ensembles der Musikschule
DESCRIPTION:Engelsgesang und Hirtenmelodie lautet das Motto des Adventskonzerts mit Ensembles der Musikschule der Stadt Jülich am Samstag\, 30. November. Dann präsentiert die Musikschule um 19:00 Uhr ihr jährliches Adventskonzert im Foyer der Musikschule im Schulzentrum\, Düsseldorfer Straße 67\, den musikbegeisterten Jülichern. Strahlende Trompetenklänge und sanfte Flötentöne\, Engelsgesang und Hirtenmelodie werden die Christuskirche mit vorweihnachtlichem Glanz erfüllen. \nEine der tragenden Säulen der Arbeit an der Musikschule der Stadt Jülich stellt die Ensemblearbeit dar. Dabei liegt der Fokus nicht alleine auf den vielköpfigen Gruppierungen wie dem Chor TONart oder der Big Band What Else. Denn es werden dauerhaft in allen Fachbereichen mehr oder minder kleine Gruppen gepflegt\, in denen die Schüler – Kinder\, Jugendliche und Erwachsene – ihr musikalisches Glück und Fortkommen suchen und finden. Querflötentrio\, Streicherensemble\, Blockflöten-Consort\, Trompeter-Rotte\, Percussionsgruppe\, gemischtes Blech und fächerübergreifende Spielkreise laden alle Musikerinnen und Musiker gängiger Orchesterinstrumente zum Zusammenspiel ein. Seit Jahrzehnten wird ebenfalls die Bandarbeit gepflegt\, sodass auch Rock-\, Pop-\, Country-\, Jazzmusik an jedem Tag durch die Flure der Musikschule schallen. \nDas Foyer der Musikschule bietet den Instrumentalgruppen einen schönen und festlichen Rahmen für ein Konzert zu Beginn der Adventszeit. Nach zahlreichen Konzerten im ausgehenden Jahr\, bei denen häufig die Solisten aus der Riege der Schüler ihre Kunst präsentieren konnten\, bleibt das Adventskonzert den unterschiedlichen kleinen und größeren Ensembles vorbehalten. Ganz neu beim Adventskonzert wird sich das Blasorchester Schall♠sse präsentieren. Blockflötengruppe und Kammerorchester sollen ebenso vertreten sein wie Blechbläserensemble und Querflötentrio. Neben Adventlichem im engeren Sinne werden vor allem\, aber nicht ausschließlich Instrumentalwerke aus Renaissance\, Barock und Frühklassik erklingen\, die wie geschaffen für die Vorweihnachtszeit sind. Zum Schluss dann werden alle Spieler und alle Besucher zu einem ganz großen gemeinsamen Gesang anheben\, der dann alle in einen wundervollen Dezember entlassen soll. \nDer Eintritt in die Musikschule 30. November ist frei. Um eine Spende für den Förderverein der Musikschule wird im Anschluss an das Konzerts gebeten. \n
URL:https://www.herzog-magazin.de/event/adventskonzert-mit-ensembles-der-musikschule/
LOCATION:Musikschule Jülich\, Linnicher Straße\, Jülich\, NRW\, 52428\, Deutschland
GEO:50.9301747;6.3545449
X-APPLE-STRUCTURED-LOCATION;VALUE=URI;X-ADDRESS=Musikschule Jülich Linnicher Straße Jülich NRW 52428 Deutschland;X-APPLE-RADIUS=500;X-TITLE=Linnicher Straße:geo:6.3545449,50.9301747
CATEGORIES:Musik,Musik & Konzerte
ATTACH;FMTTYPE=image/jpeg:https://www.herzog-magazin.de/wp-content/uploads/2019/10/Musikschule-Schüler-Weihnachtskonzert-2019-Netz.jpg
END:VEVENT
END:VCALENDAR