    BEGIN:VCALENDAR
VERSION:2.0
PRODID:-//HERZOG Kultur- &amp; Stadtmagazin - ECPv4.9.2//NONSGML v1.0//EN
CALSCALE:GREGORIAN
METHOD:PUBLISH
X-WR-CALNAME:HERZOG Kultur- &amp; Stadtmagazin
X-ORIGINAL-URL:https://www.herzog-magazin.de
X-WR-CALDESC:Veranstaltungen im HERZOG Kultur- &amp; Stadtmagazin
BEGIN:VEVENT
DTSTART;TZID=Europe/Berlin:20210708T170000
DTEND;TZID=Europe/Berlin:20210708T170000
DTSTAMP:20260423T225455
CREATED:20210630T100847Z
LAST-MODIFIED:20210630T100847Z
UID:61112-1625763600-1625763600@www.herzog-magazin.de
SUMMARY:After Work im KuBa-Biergarten
DESCRIPTION:„After Work“ im Kulturbahnhof: Das bedeutet\, den Arbeitstag im neu gestalteten KuBa-Biergarten beim gemütlichen Feierabend ausklingen zu lassen. Dazu hat der Verein Kultur im Bahnhof viele Änderungen vorgenommen\, damit sich Besucher wohlfühlen können: Neue Möbel\, eine neue Bühne\, neue Getränke und noch vieles mehr. \nDabei ist wie gewohnt Ottmar Dreyling mit seinem Team vom Bar-Eventmobil. Die Genuss-Profis werden Cocktails und andere gekühlte Köstlichkeiten im lauschigen KuBa-Biergarten servieren. Natürlich gibt es auch die gewohnten anderen typischen „Biergarten“ Getränke. Für das leibliche Wohl wird auch in abwechselnder Form gesorgt und DJ Buto wird für beste Feierabendstimmung sorgen. \nTermine sind am Donnerstag\, 8. Juli; Donnerstag\, 22. Juli; Donnerstag\, 5. August; Donnerstag\, 19. August; Donnerstag\, 2. September; Mittwoch\, 15. September. Beginn ist immer ab 17 Uhr. \nTischreservierungen können über die KuBa Webseite (www.kuba-juelich.de) oder per Mail an info@kuba-juelich.de vorgenommen werden. Die zum Zeitpunkt geltenden Corona-Auflagen und Kontaktbeschränkungen sind zu beachten. \n
URL:https://www.herzog-magazin.de/event/after-work-im-kuba-biergarten/2021-07-08/
LOCATION:KuBa-Biergarten\, Bahnhofstr. 13\, Jülich\, NRW\, 52428\, Deutschland
CATEGORIES:Essen & Trinken,Musik,Präsenz-Veranstaltung,Sonstiges
ATTACH;FMTTYPE=image/jpeg:https://www.herzog-magazin.de/wp-content/uploads/2021/06/After_Work_HZG_Netz.jpg
ORGANIZER;CN="Kultur%20im%20Bahnhof%20e.V.":MAILTO:info@kuba-juelich.de
END:VEVENT
END:VCALENDAR