    BEGIN:VCALENDAR
VERSION:2.0
PRODID:-//HERZOG Kultur- &amp; Stadtmagazin - ECPv4.9.2//NONSGML v1.0//EN
CALSCALE:GREGORIAN
METHOD:PUBLISH
X-WR-CALNAME:HERZOG Kultur- &amp; Stadtmagazin
X-ORIGINAL-URL:https://www.herzog-magazin.de
X-WR-CALDESC:Veranstaltungen im HERZOG Kultur- &amp; Stadtmagazin
BEGIN:VEVENT
DTSTART;TZID=Europe/Berlin:20250829T150000
DTEND;TZID=Europe/Berlin:20250829T170000
DTSTAMP:20260426T035928
CREATED:20250820T104322Z
LAST-MODIFIED:20250820T104322Z
UID:152763-1756479600-1756486800@www.herzog-magazin.de
SUMMARY:Aktionen der Jülicher Omas gegen Rechts
DESCRIPTION:Die Jülicher Omas gegen Rechts nehmen die kommende Kommunalwahl zum Anlass\, auf die falschen Versprechungen rechtsextremer Parteien hinzuweisen. Die zurzeit rund 40 Frauen haben unterschiedliche politische Ansichten\, teilen aber gemeinsame Grundüberzeugungen. In originellen Aktionsformen möchten sie diese ganz wörtlich anschaulich machen und mit den Bürgerinnen und Bürgern der Stadt diskutieren. \nEin Aktionsthema werden Träume sein\, denn die Jülicher Omas sind überzeugt: Die Träume\, die gerade Nichtwähler haben\, werden sich als Illusionen herausstellen. Sie werden zerplatzen wie Seifenblasen. Illusionär sei beispielsweise\, dass Freiheitsrechte selbstverständlich sind\, dass Demokratie sich ohne Mühe von selbst einstellt\, dass ein starker Mann schon alles richten würde\, dass es schnelle einfache Lösungen gibt oder auch permanente Sicherheit durch permanente Kontrolle. Die Passanten sind eingeladen\, ihre eigenen Träume zu formulieren und mit den Omas darüber zu sprechen. \nDie Jülicher Omas werden auch einige Freiheitsrechte benennen\, die das Grundgesetz sichert\, und die nach der Programmatik rechtsextremer Parteien akut gefährdet sind. Dazu gehören die Freiheit der Wissenschaft und die Gleichberechtigung\, die Meinungs- und Pressefreiheit\, die Religionsfreiheit und die sexuelle Selbstbestimmung\, die Versammlungsfreiheit und das Wahlrecht. Die Aktion dazu: Diese Freiheitsrechte stehen geschrieben auf Luftballons\, die wegzufliegen drohen\, und die Passanten werden aufgefordert: HALTET DIE FREIHEITEN FEST. \nAn einem Infotisch sind die Passanten auch zum Mitmachen eingeladen: Acht große Gläser stehen mit ihren Aufschriften jeweils für ein Freiheitsrecht. Mit dem Einwurf einer Wäscheklammer können sie entscheiden\, welches ihnen am wichtigsten ist. Anhand der Anzahl der Wäscheklammern im Glas wird sichtbar\, welche Freiheit ihnen besonders wichtig ist. \nMit Plakaten an den umstehenden Bäumen mit der Aufforderung „Mach keinen Haken an Dein Kreuz“  wollen die Omas vor allem junge Wählerinnen und Wähler erreichen. \nDie Aktionen der Jülicher OGR finden an den drei Freitagen vor der Kommunalwahl statt\, also am 29. August.\, 05. September und 12. September \, jeweils von 15-17 Uhr auf dem Jülicher Marktplatz an einem Infotisch vor dem Weltladen. \nDie Jülicher Omas gegen Rechts sind überparteilich und kein Verein\, in den man eintreten muss\, um mitzuwirken. Sie verstehen sich als Teil des Bündnisses „Jülich solidarisch“ aus Parteien\, Kirchen und Verbänden. \nKontakt: omasgegenrechts-juelich@gmx.de \n  \n
URL:https://www.herzog-magazin.de/event/aktionen-der-juelicher-omas-gegen-rechts/2025-08-29/
LOCATION:Marktplatz\, Jülich\, NRW\, 52428\, Deutschland
GEO:50.9418933;6.3944308
CATEGORIES:Informationsveranstaltung,kulturelle Bildung,Politik
ATTACH;FMTTYPE=image/jpeg:https://www.herzog-magazin.de/wp-content/uploads/2025/06/IMG_0090.jpg
ORGANIZER;CN="J%C3%BClicher%20Omas%20gegen%20Rechts":MAILTO:omasgegenrechts-juelich@gmx.de
END:VEVENT
END:VCALENDAR