    BEGIN:VCALENDAR
VERSION:2.0
PRODID:-//HERZOG Kultur- &amp; Stadtmagazin - ECPv4.9.2//NONSGML v1.0//EN
CALSCALE:GREGORIAN
METHOD:PUBLISH
X-WR-CALNAME:HERZOG Kultur- &amp; Stadtmagazin
X-ORIGINAL-URL:https://www.herzog-magazin.de
X-WR-CALDESC:Veranstaltungen im HERZOG Kultur- &amp; Stadtmagazin
BEGIN:VEVENT
DTSTART;TZID=Europe/Berlin:20230912T100000
DTEND;TZID=Europe/Berlin:20230912T140000
DTSTAMP:20260422T025241
CREATED:20230908T155653Z
LAST-MODIFIED:20230908T155653Z
UID:113897-1694512800-1694527200@www.herzog-magazin.de
SUMMARY:Aktionstag bei der job-com in Jülich
DESCRIPTION:Bei einem Aktionstag der job-com in Jülich stellen sich am Dienstag\, 12. September\, verschiedene Arbeitgeber aus der Personaldienstleistungsbranche vor. Wer auf der Suche nach einem neuen Job ist\, kann sich hier unverbindlich informieren. Zwischen 10 und 14 Uhr stehen die Unternehmen für Fragen und Gespräche zur Verfügung.  \nEine Anmeldung ist nicht erforderlich. Der Eintritt ist frei. Der Aktionstag findet im Sitzungssaal im Alten Rathaus\, Marktplatz 1\, in Jülich statt.  \n
URL:https://www.herzog-magazin.de/event/aktionstag-bei-der-job-com-in-juelich/
LOCATION:Altes Rathaus Jülich\, Marktplatz 1\, Jülich\, NRW\, 52428\, Deutschland
CATEGORIES:Beruf,Informationsveranstaltung
ATTACH;FMTTYPE=image/jpeg:https://www.herzog-magazin.de/wp-content/uploads/2023/05/Kreis-Dueren-2021-Logo-PUR-WEB.jpg
ORGANIZER;CN="Kreis%20D%C3%BCren":MAILTO:mail@kreis-dueren.de
END:VEVENT
END:VCALENDAR