    BEGIN:VCALENDAR
VERSION:2.0
PRODID:-//HERZOG Kultur- &amp; Stadtmagazin - ECPv4.9.2//NONSGML v1.0//EN
CALSCALE:GREGORIAN
METHOD:PUBLISH
X-WR-CALNAME:HERZOG Kultur- &amp; Stadtmagazin
X-ORIGINAL-URL:https://www.herzog-magazin.de
X-WR-CALDESC:Veranstaltungen im HERZOG Kultur- &amp; Stadtmagazin
BEGIN:VEVENT
DTSTART;TZID=Europe/Berlin:20190929T103000
DTEND;TZID=Europe/Berlin:20190929T103000
DTSTAMP:20260423T011853
CREATED:20190925T092429Z
LAST-MODIFIED:20190925T092429Z
UID:29554-1569753000-1569753000@www.herzog-magazin.de
SUMMARY:Akzente bei der FeG Jülich
DESCRIPTION:Die Musikgruppe Akzente ist am Sonntag\, 29. September\, zu Gast im Gottesdienst der Freien evangelischen Gemeinde Jülich\, Margaretenstraße 2. Die Musikgruppe „Akzente“ ist ein gemischter vierstimmiger Chor mit Instrumentalbegleitung der Katholischen Pfarrei Heilig Geist Jülich. Seit über 20 Jahre gestaltet sie in Jülich und Umgebung Gottesdienste mit neuen geistlichen Liedern. Die rund 20 Sängerinnen und Sänger werden unter der Leitung von Wolfgang Biel einige Lieder ihres reichhaltigen Repertoires zu Gehör bringen. Lieder\, in denen es um Begegnung mit Gott geht und die Freude am Glauben\, die aus dieser Begegnung erwächst.  \nDie Gottesdienstbesucher sind herzlich eingeladen\, bei den Liedern mitzusingen – die Texte werden für alle lesbar an die Wand projiziert. Die Predigt an diesem Sonntag hält Pastor Wolfgang Ortmann aus der FeG Langenfeld und durch den Gottesdienst führt Ruth Goerke. Im Anschluss dazu gibt es ein gemeinsames Mittagessen „Potluck“\, zu dem jeder etwas zum Buffet beitragen kann. Beginn ist um 10:30 Uhr.  \nInformation zur Musikgruppe „Akzente“ und ihre Lieder findet sich unter musikgruppe-akzente.de sowie Infos zur Freien evangelischen Gemeinde Jülich unter juelich.feg.de im Internet. \n
URL:https://www.herzog-magazin.de/event/akzente-bei-der-feg-juelich/
LOCATION:Freie evangelische Gemeinde Jülich\, Margaretenstraße 2\, Jülich\, NRW\, 52428\, Deutschland
GEO:50.9106343;6.3593934
X-APPLE-STRUCTURED-LOCATION;VALUE=URI;X-ADDRESS=Freie evangelische Gemeinde Jülich Margaretenstraße 2 Jülich NRW 52428 Deutschland;X-APPLE-RADIUS=500;X-TITLE=Margaretenstraße 2:geo:6.3593934,50.9106343
CATEGORIES:Musik,Musik & Konzerte,Religion
ATTACH;FMTTYPE=image/jpeg:https://www.herzog-magazin.de/wp-content/uploads/2019/08/FEG-Haus-Netz.jpg
END:VEVENT
END:VCALENDAR