    BEGIN:VCALENDAR
VERSION:2.0
PRODID:-//HERZOG Kultur- &amp; Stadtmagazin - ECPv4.9.2//NONSGML v1.0//EN
CALSCALE:GREGORIAN
METHOD:PUBLISH
X-WR-CALNAME:HERZOG Kultur- &amp; Stadtmagazin
X-ORIGINAL-URL:https://www.herzog-magazin.de
X-WR-CALDESC:Veranstaltungen im HERZOG Kultur- &amp; Stadtmagazin
BEGIN:VEVENT
DTSTART;TZID=Europe/Berlin:20190924T190000
DTEND;TZID=Europe/Berlin:20190924T190000
DTSTAMP:20260423T083553
CREATED:20190820T134421Z
LAST-MODIFIED:20190820T134421Z
UID:27702-1569351600-1569351600@www.herzog-magazin.de
SUMMARY:„Allerseelenschlacht“ in Jülich
DESCRIPTION:Eine Lesung mit Olaf Müller findet am Dienstag 24. September\, um 19:00 Uhr in der Stadtbücherei Jülich statt. Der Autor Olaf Müller aus Düren\, dessen erster Krimi „Rurschatten“ unter anderem in Jülich spielt\, stellt in der Stadtbücherei Jülich seinen zweiten Krimi „Allerseelenschlacht“ vor. Der Eintritt kostet 5\,00 Euro. \n
URL:https://www.herzog-magazin.de/event/allerseelenschlacht-in-juelich/
LOCATION:Stadtbücherei Jülich\, Kleine Rurstraße 42\, Jülich\, NRW\, 52428\, Deutschland
GEO:50.9209335;6.3559376
X-APPLE-STRUCTURED-LOCATION;VALUE=URI;X-ADDRESS=Stadtbücherei Jülich Kleine Rurstraße 42 Jülich NRW 52428 Deutschland;X-APPLE-RADIUS=500;X-TITLE=Kleine Rurstraße 42:geo:6.3559376,50.9209335
CATEGORIES:kulturelle Bildung,Literatur
ATTACH;FMTTYPE=image/jpeg:https://www.herzog-magazin.de/wp-content/uploads/2018/03/eingang6fuerWebsite.jpg
ORGANIZER;CN="Stadtb%C3%BCcherei%20J%C3%BClich":MAILTO:stadtbuecherei@juelich.de
END:VEVENT
END:VCALENDAR