    BEGIN:VCALENDAR
VERSION:2.0
PRODID:-//HERZOG Kultur- &amp; Stadtmagazin - ECPv4.9.2//NONSGML v1.0//EN
CALSCALE:GREGORIAN
METHOD:PUBLISH
X-WR-CALNAME:HERZOG Kultur- &amp; Stadtmagazin
X-ORIGINAL-URL:https://www.herzog-magazin.de
X-WR-CALDESC:Veranstaltungen im HERZOG Kultur- &amp; Stadtmagazin
BEGIN:VEVENT
DTSTART;TZID=Europe/Berlin:20181106T160000
DTEND;TZID=Europe/Berlin:20181106T173000
DTSTAMP:20260424T174009
CREATED:20181022T071751Z
LAST-MODIFIED:20181022T072036Z
UID:17093-1541520000-1541525400@www.herzog-magazin.de
SUMMARY:AMELIE RENNT
DESCRIPTION:Familie\, Abenteuer | Deutschland 2017 | FSK: ab 6 | Regie: Tobias Wiemann | Darsteller: Mia Kasalo\, Samuel Girardi\, Susanne Bormann\, Denis Moschitto\, Jasmin Tabatabai\, Shenia Pitschmann\, Jerry Hoffmann\, David Bredin\, Christian Lerch \nAmelie ist 13\, eine waschechte Großstadtgöre und womöglich das sturste Mädchen in ganz Berlin. Amelie lässt sich von niemanden etwas sagen\, schon gar nicht von ihren Eltern\, die sie nach einem lebensbedrohlichen Asthmaanfall in eine spezielle Klinik nach Südtirol verfrachten. Genau das\, was Amelie nicht will. Anstatt sich helfen zu lassen\, reißt sie aus. Sie flüchtet dorthin\, wo sie garantiert niemand vermutet: Bergauf. Mitten in den Alpen trifft sie auf einen geheimnisvollen 15-Jährigen mit dem sonderbaren Namen Bart. Als der ungebetene Begleiter ihr das Leben rettet\, stellt Amelie fest\, dass Bart viel interessanter ist\, als anfangs gedacht. Gemeinsam begeben sich die beiden auf eine abenteuerliche Reise\, bei der es um hoffnungsvolle Wunder und echte Freundschaft geht. \n\n\n   \n\nMit dem Laden des Videos akzeptieren Sie die Datenschutzerklärung von YouTube.Mehr erfahren \nVideo laden \n YouTube immer entsperren \n \nPGRpdiBjbGFzcz0iX2JybGJzLWZsdWlkLXdpZHRoLXZpZGVvLXdyYXBwZXIiPjxpZnJhbWUgd2lkdGg9IjY0MCIgaGVpZ2h0PSIzNjAiIHNyYz0iaHR0cHM6Ly93d3cueW91dHViZS1ub2Nvb2tpZS5jb20vZW1iZWQvS2NocHlzUVMxRGs/ZmVhdHVyZT1vZW1iZWQiIGZyYW1lYm9yZGVyPSIwIiBhbGxvdz0iYXV0b3BsYXk7IGVuY3J5cHRlZC1tZWRpYSIgYWxsb3dmdWxsc2NyZWVuPjwvaWZyYW1lPjwvZGl2Pg==\n\n
URL:https://www.herzog-magazin.de/event/amelie-rennt/
LOCATION:Kulturbahnhof (KuBa) Jülich\, Bahnhofsstraße 13\, Jülich\, NRW\, 52428\, Deutschland
GEO:50.91828;6.36768
X-APPLE-STRUCTURED-LOCATION;VALUE=URI;X-ADDRESS=Kulturbahnhof (KuBa) Jülich Bahnhofsstraße 13 Jülich NRW 52428 Deutschland;X-APPLE-RADIUS=500;X-TITLE=Bahnhofsstraße 13:geo:6.36768,50.91828
CATEGORIES:Kino
ATTACH;FMTTYPE=image/jpeg:https://www.herzog-magazin.de/wp-content/uploads/2018/10/maxresdefault-2.jpg
ORGANIZER;CN="KuBa%20J%C3%BClich":MAILTO:info@kuba-juelich.de
END:VEVENT
END:VCALENDAR