    BEGIN:VCALENDAR
VERSION:2.0
PRODID:-//HERZOG Kultur- &amp; Stadtmagazin - ECPv4.9.2//NONSGML v1.0//EN
CALSCALE:GREGORIAN
METHOD:PUBLISH
X-WR-CALNAME:HERZOG Kultur- &amp; Stadtmagazin
X-ORIGINAL-URL:https://www.herzog-magazin.de
X-WR-CALDESC:Veranstaltungen im HERZOG Kultur- &amp; Stadtmagazin
BEGIN:VEVENT
DTSTART;TZID=Europe/Berlin:20230917T110000
DTEND;TZID=Europe/Berlin:20230917T180000
DTSTAMP:20260423T181433
CREATED:20230816T174258Z
LAST-MODIFIED:20230816T174258Z
UID:112452-1694948400-1694973600@www.herzog-magazin.de
SUMMARY:Andreashaus: Stadt-Land-Spielt!
DESCRIPTION:Die 11. „Tage des Gesellschaftsspiels“ Stadt-Land-Spielt! im September 2023: Im September kann wieder an vielen Orten gespielt werden. Stadt-Land-Spielt! findet dieses Jahr an über 233 Standorten am Wochenende 16. / 17. September statt. Spielbegeisterte\, Familien und Kinder sitzen dann gemeinsam am Tisch mit einem Brettspiel. \nIn Jülich trägt der Spielkreis für Jung und Alt der kath. Gemeinde Heilig Geist die Tage des Gesellschaftsspiels am Sonntag\, 17. September\, von 11 bis 18 Uhr in Jülich aus. Gespielt wird im Andreashaus in Lich-Steinstraß\, Matthiasplatz 1. Es werden von Kinderspielen bis zu Expertenspielen eine große Auswahl an Spielen zur Ausleihe zur Verfügung stehen. Eine Anmeldung ist nicht notwendig. Der Eintritt ist frei. Kostenlose Parkplätze sind reichlich da. \n„Stadt-Land-Spielt!“ ist ein Non-Profit-Projekt\, das jedes Jahr Mitte September stattfindet. Das Spielewochenende verbindet Menschen über die Grenzen von Herkunft\, Generationen\, sozialer Herkunft sowie physischer und psychischer Verfassung hinaus. Weitere Infos sind über www.stadt-land-spielt.de erhältlich. Interessierte Besucher finden alle Veranstaltungsorte auf der Homepage von Stadt-Land-Spielt!. Hier vor Ort gibt es unter spielkreis.minu75.de weitere Infos. \n
URL:https://www.herzog-magazin.de/event/andreashaus-stadt-land-spielt/
LOCATION:Andreashaus\, Matthiasplatz\, Lich-Steinstraß\, NRW\, 52428\, Deutschland
GEO:50.9302356;6.3783497
X-APPLE-STRUCTURED-LOCATION;VALUE=URI;X-ADDRESS=Andreashaus Matthiasplatz Lich-Steinstraß NRW 52428 Deutschland;X-APPLE-RADIUS=500;X-TITLE=Matthiasplatz:geo:6.3783497,50.9302356
CATEGORIES:Festival & Markt,für Familien,Hobby
ATTACH;FMTTYPE=image/jpeg:https://www.herzog-magazin.de/wp-content/uploads/2022/11/Brettspiel_board-game-933165_1920-Foto-tookapic-pixabay.jpg
ORGANIZER;CN="Kath.%20Pfarrei%20Heilig%20Geist%20J%C3%BClich":MAILTO:pfarramt@heilig-geist-juelich.de
END:VEVENT
END:VCALENDAR