    BEGIN:VCALENDAR
VERSION:2.0
PRODID:-//HERZOG Kultur- &amp; Stadtmagazin - ECPv4.9.2//NONSGML v1.0//EN
CALSCALE:GREGORIAN
METHOD:PUBLISH
X-WR-CALNAME:HERZOG Kultur- &amp; Stadtmagazin
X-ORIGINAL-URL:https://www.herzog-magazin.de
X-WR-CALDESC:Veranstaltungen im HERZOG Kultur- &amp; Stadtmagazin
BEGIN:VEVENT
DTSTART;TZID=Europe/Berlin:20230421T130000
DTEND;TZID=Europe/Berlin:20230421T180000
DTSTAMP:20260421T051138
CREATED:20230417T094121Z
LAST-MODIFIED:20230417T094121Z
UID:104577-1682082000-1682100000@www.herzog-magazin.de
SUMMARY:Archiv des Heimatvereins Welldorf
DESCRIPTION:Das Archiv des Heimatvereins Welldorf öffnet an bestimmten Tagen von 13 bis 18 Uhr. Das Archiv des Heimatvereins befindet sich im Haus des 1. Vorsitzenden Bernhard Schüller\, Bahngasse 13\, Welldorf. \nBasis für die Arbeit des Heimatvereins ist das umfassendes Archiv\, das rund 6.600 Fotos\, alte Kochrezepte und zahlreiche Schriftstücke aus unterschiedlichen Zeiten enthält. Darüber hinaus ist es in Besitz von annähernd 1.000 Totenzetteln\, die sich oftmals auch für die Ahnenforschung eignen.  \nDas Archiv des Heimatvereins steht allen Interessierten offen. Es ist jeweils freitags an folgenden Tagen geöffnet: \n17. März\n21. April\n12. Mai\n16. Juni\n18. August\n15. September\n 6. Oktober \nNach telefonischer Vereinbarung unter 02463 / 7969444) mit dem Archivar sind auch andere Besuchszeiten möglich.  \nInfos sind über www.heimatverein-welldorf.de erhältlich. \n
URL:https://www.herzog-magazin.de/event/archiv-des-heimatvereins-welldorf/2023-04-21/
LOCATION:Heimatverein Welldorf\, Bahngasse 13\, Welldorf\, NRW\, 52428\, Deutschland
CATEGORIES:Brauchtum,Geschichte
ATTACH;FMTTYPE=image/jpeg:https://www.herzog-magazin.de/wp-content/uploads/2023/04/Welldorf-Heimatverein-Geschichte.jpg
END:VEVENT
END:VCALENDAR