    BEGIN:VCALENDAR
VERSION:2.0
PRODID:-//HERZOG Kultur- &amp; Stadtmagazin - ECPv4.9.2//NONSGML v1.0//EN
CALSCALE:GREGORIAN
METHOD:PUBLISH
X-WR-CALNAME:HERZOG Kultur- &amp; Stadtmagazin
X-ORIGINAL-URL:https://www.herzog-magazin.de
X-WR-CALDESC:Veranstaltungen im HERZOG Kultur- &amp; Stadtmagazin
BEGIN:VEVENT
DTSTART;TZID=Europe/Berlin:20191011T193000
DTEND;TZID=Europe/Berlin:20191011T000000
DTSTAMP:20260425T023329
CREATED:20190910T111647Z
LAST-MODIFIED:20190910T111647Z
UID:28747-1570822200-1570752000@www.herzog-magazin.de
SUMMARY:Ausstellung: Petra Dreier und Michael Hanousek
DESCRIPTION:Petra Dreier und Michael Hanousek sind ein Künstlerpaar\, das ihre Kunst seit drei Jahrzehnten gemeinsam praktiziert.  In der Serie Köpfe\, Hybride\, Roboter thematisieren Dreier und Hanousek wie in einer technologisierten Welt die Grenzen zwischen Mensch und Maschine immer mehr verschwimmen. Ist dieser  Zustand paradiesisch oder desaströs oder beides zugleich?\nDas ist die Frage\, die sich in der Ausstellung MALEREI\, die vom 11. Oktober bis zum 3. November im Hexenturm vom Kunstverein Jülich gezeigt wird\, an die Betrachter richtet. \nDie Ausstellung ist samstags und sonntags von 11-17 Uhr geöffnet.\nEröffnung: Freitag\, 11. Oktober 19.30 Uhr\nEinführende Worte: Dr. Angelika Hille-Sandvoß \nWer sich vorher einlesen möchte:\nwww.bilderhalt.com \n
URL:https://www.herzog-magazin.de/event/ausstellung-petra-dreier-und-michael-hanousek/
LOCATION:Hexenturm\, Walramplatz\, Jülich\, 52428
GEO:50.9206663;6.3551803
X-APPLE-STRUCTURED-LOCATION;VALUE=URI;X-ADDRESS=Hexenturm Walramplatz Jülich 52428;X-APPLE-RADIUS=500;X-TITLE=Walramplatz:geo:6.3551803,50.9206663
CATEGORIES:Ausstellung,Kunst & Design
ATTACH;FMTTYPE=image/jpeg:https://www.herzog-magazin.de/wp-content/uploads/2019/09/kunstverein-Kopie.jpg
ORGANIZER;CN="Kunstverein%20J%C3%BClich%20e.V.":MAILTO:kimuleh@gmx.de
END:VEVENT
END:VCALENDAR