    BEGIN:VCALENDAR
VERSION:2.0
PRODID:-//HERZOG Kultur- &amp; Stadtmagazin - ECPv4.9.2//NONSGML v1.0//EN
CALSCALE:GREGORIAN
METHOD:PUBLISH
X-WR-CALNAME:HERZOG Kultur- &amp; Stadtmagazin
X-ORIGINAL-URL:https://www.herzog-magazin.de
X-WR-CALDESC:Veranstaltungen im HERZOG Kultur- &amp; Stadtmagazin
BEGIN:VEVENT
DTSTART;TZID=Europe/Berlin:20191105T170000
DTEND;TZID=Europe/Berlin:20191105T170000
DTSTAMP:20260423T071114
CREATED:20191105T094231Z
LAST-MODIFIED:20191105T094231Z
UID:30731-1572973200-1572973200@www.herzog-magazin.de
SUMMARY:Ausstellung zum Zwangsarbeiterlager Arnoldsweiler
DESCRIPTION:Die DGB-Region NRW Süd-West und die Industriegewerkschaft Bergbau\, Chemie\, Energie\, Ortsgruppe Düren (IG BCE) zeigen die Wanderausstellung „Gegen das Vergessen\, Zwangsarbeiterlager Arnoldsweiler“ am Dienstag\, 5. November\, im Lichthof des Kreishauses Düren\, 1. Obergeschoss in Düren\, Bismarckstraße 16. Die Ausstellung thematisiert das Kriegsgefangenen- und Zwangsarbeiterlager STALAG VI H in Arnoldsweiler. Landrat Wolfgang Spelthahn wird in das Projekt\, das den nachfolgenden Generationen die Geschichte der Zwangsarbeit nahebringt\, einführen. \n
URL:https://www.herzog-magazin.de/event/ausstellung-zum-zwangsarbeiterlager-arnoldsweiler/
LOCATION:Kreishaus Düren\, Bismarckstraße\, Düren\, NRW\, Deutschland
GEO:50.8061914;6.487997
X-APPLE-STRUCTURED-LOCATION;VALUE=URI;X-ADDRESS=Kreishaus Düren Bismarckstraße Düren NRW Deutschland;X-APPLE-RADIUS=500;X-TITLE=Bismarckstraße:geo:6.487997,50.8061914
CATEGORIES:Ausstellung,Geschichte,Informationsveranstaltung
ATTACH;FMTTYPE=image/jpeg:https://www.herzog-magazin.de/wp-content/uploads/2017/07/Avatar_Partner_KreisDüren.jpg
END:VEVENT
END:VCALENDAR