    BEGIN:VCALENDAR
VERSION:2.0
PRODID:-//HERZOG Kultur- &amp; Stadtmagazin - ECPv4.9.2//NONSGML v1.0//EN
CALSCALE:GREGORIAN
METHOD:PUBLISH
X-WR-CALNAME:HERZOG Kultur- &amp; Stadtmagazin
X-ORIGINAL-URL:https://www.herzog-magazin.de
X-WR-CALDESC:Veranstaltungen im HERZOG Kultur- &amp; Stadtmagazin
BEGIN:VEVENT
DTSTART;TZID=Europe/Berlin:20250829T180000
DTEND;TZID=Europe/Berlin:20250829T180000
DTSTAMP:20260426T021814
CREATED:20250806T083657Z
LAST-MODIFIED:20250806T102551Z
UID:152524-1756490400-1756490400@www.herzog-magazin.de
SUMMARY:Ausstellungseröffnung: Zwischen Stillstand und Bewegung
DESCRIPTION:Wann der Moment war\, da sie sich als Künstlerin verstand? Den kann Nadja Nafe gar nicht genau benennen. Die gebürtige Tönisvorsterin begann als 20-Jährige ihr Studium an der Kunstakademie Düsseldorf unter anderem bei Katharina Grosse und Markus Lüppertz\, arbeitet und lebt in Düsseldorf und Krefeld. Jetzt hat der Kunstverein Jülich sie zu einer Werkschau eingeladen\, die unter dem Thema „Schatten und andere Erlebnisse“ steht. \nNadja Nafes Arbeiten reflektieren skizzenhafte Erinnerungen\, Bewegung und Stillstand. Sie untersucht\, wie subjektiv erlebte Zeit und plötzliche Veränderungen bildlich und räumlich erfahrbar werden. Die Ausstellung zeigt eine Auswahl aktueller großformatiger Malereien sowie eine Installation aus Scherenschnitten und Keramik. \nÜber ihre Arbeit sagt die Künstlerin selbst: „Was mich nach wie vor fasziniert\, ist das Schattenspiel an der Wand\, wenn Licht auf Pflanzen trifft\, aber auch farbige Schatten\, die sich auf Flächen legen.“ In der Umsetzung nutzt sie das Wechselspiel aus Verstehen\, Erkennen und Auflösung\, die eine Mehrdeutigkeit\, aber auch Offenheit der Werke zur Folge haben\, mit denen sich der Betrachtende konfrontiert sieht.  \nDie Ausstellung wird mit einer Vernissage am Freitag\, 29. August\, um 18 Uhr eröffnet. Nadja Nafes ist anwesend und gibt im Rahmen eines Künstlergesprächs Einblicke in ihren Werdegang und ihre Techniken. \n
URL:https://www.herzog-magazin.de/event/ausstellungseroeffnung-zwischen-stillstand-und-bewegung/
LOCATION:Hexenturm\, Walramplatz\, Jülich\, 52428
GEO:50.9206663;6.3551803
X-APPLE-STRUCTURED-LOCATION;VALUE=URI;X-ADDRESS=Hexenturm Walramplatz Jülich 52428;X-APPLE-RADIUS=500;X-TITLE=Walramplatz:geo:6.3551803,50.9206663
CATEGORIES:Kunst & Design
ATTACH;FMTTYPE=image/jpeg:https://www.herzog-magazin.de/wp-content/uploads/2025/08/Nadja-Nafes_web.jpg
ORGANIZER;CN="Kunstverein%20J%C3%BClich%20e.V.":MAILTO:kimuleh@gmx.de
END:VEVENT
END:VCALENDAR