    BEGIN:VCALENDAR
VERSION:2.0
PRODID:-//HERZOG Kultur- &amp; Stadtmagazin - ECPv4.9.2//NONSGML v1.0//EN
CALSCALE:GREGORIAN
METHOD:PUBLISH
X-WR-CALNAME:HERZOG Kultur- &amp; Stadtmagazin
X-ORIGINAL-URL:https://www.herzog-magazin.de
X-WR-CALDESC:Veranstaltungen im HERZOG Kultur- &amp; Stadtmagazin
BEGIN:VEVENT
DTSTART;TZID=Europe/Berlin:20231118T120500
DTEND;TZID=Europe/Berlin:20231118T120500
DTSTAMP:20260419T190959
CREATED:20231009T134031Z
LAST-MODIFIED:20231009T134324Z
UID:116115-1700309100-1700309100@www.herzog-magazin.de
SUMMARY:BachChor Mönchengladbach zur Marktzeit
DESCRIPTION:Zur vorletzten Matinee in diesem Jahr gastiert am Samstag\, 18. November\, der BachChor Mönchengladbach in der Jülicher Propsteikirche. Die Matinee beginnt am 18. November um 12.05 Uhr. Der Eintritt ist frei\, Spenden werden gerne entgegengenommen. \nIm Gedenken an den großen Komponisten Max Reger\, dessen Geburtstag sich in diesem Jahr zum 150. Mal jährt\, hat sich der BachChor Mönchengladbach mit den Vokalwerken Regers und seiner Zeitgenossen beschäftigt. Es erklingen Motetten aus op. 138 des Bach-Verehrers Reger\, unter anderem das doppelchörige Werk „Der Mensch lebt und bestehet nur eine kleine Zeit“ nach einer Gedichtvorlage von Matthias Claudius.  \nDarüber hinaus werden selten zu hörende Motetten von Josef Rheinberger wie „Salve Regina‘ und ‚Benedictus Domine“ dargeboten. Am Ende der Matinee steht die Vokalimprovisation „Immortal Bach – Unsterblicher Bach“ des norwegischen Komponisten Knut Nystedt. \nDer BachChor Mönchengladbach gründete sich im Januar 2022 und setzt seitdem Akzente im Musikleben der Stadt und der Region. Die Leitung liegt in den Händen von Chordirektorin Stephanie Borkenfeld-Müllers. \n
URL:https://www.herzog-magazin.de/event/bachchor-moenchengladbach-zur-marktzeit/
LOCATION:Propsteipfarrkirche St.Mariä Himmelfahrt\, Stiftsherrenstraße 15\, Jülich\, NRW\, 52428\, Deutschland
GEO:50.9214998;6.3593009
X-APPLE-STRUCTURED-LOCATION;VALUE=URI;X-ADDRESS=Propsteipfarrkirche St.Mariä Himmelfahrt Stiftsherrenstraße 15 Jülich NRW 52428 Deutschland;X-APPLE-RADIUS=500;X-TITLE=Stiftsherrenstraße 15:geo:6.3593009,50.9214998
CATEGORIES:Musik,Musik & Konzerte
ATTACH;FMTTYPE=image/jpeg:https://www.herzog-magazin.de/wp-content/uploads/2023/10/BachChor_Moenchengladbach_Foto_Renate_Resch.jpg
ORGANIZER;CN="Kath.%20Pfarrei%20Heilig%20Geist%20J%C3%BClich":MAILTO:pfarramt@heilig-geist-juelich.de
END:VEVENT
END:VCALENDAR