    BEGIN:VCALENDAR
VERSION:2.0
PRODID:-//HERZOG Kultur- &amp; Stadtmagazin - ECPv4.9.2//NONSGML v1.0//EN
CALSCALE:GREGORIAN
METHOD:PUBLISH
X-WR-CALNAME:HERZOG Kultur- &amp; Stadtmagazin
X-ORIGINAL-URL:https://www.herzog-magazin.de
X-WR-CALDESC:Veranstaltungen im HERZOG Kultur- &amp; Stadtmagazin
BEGIN:VEVENT
DTSTART;TZID=Europe/Berlin:20191127T200000
DTEND;TZID=Europe/Berlin:20191127T200000
DTSTAMP:20260422T173705
CREATED:20191108T091437Z
LAST-MODIFIED:20191108T091437Z
UID:30904-1574884800-1574884800@www.herzog-magazin.de
SUMMARY:Bastian Sick beim Overbacher Special
DESCRIPTION:Mit seinem aktuellen Programm „Wie gut ist Ihr Deutsch?“ ist Bastian Sick beim diesjährigen Overbacher Special des Fördervereins am Mittwoch\, 27. November\, zu Gast. Der Bestseller-Autor präsentiert Höhepunkte aus 14 Jahren „Der Dativ ist dem Genitiv sein Tod“ sowie knifflige Fragen mit verblüffenden Antworten aus seinem neuesten Buch „Wie gut ist Ihr Deutsch?“. Die unterhaltsame Lesung mit ausgewählten Geschichten aus seinen Büchern\, Lichtbildprojektionen\, Publikumsquiz und Gesangseinlagen beginnt um 20:00 Uhr in der Aula des Gymnasiums Haus Overbach. Einlass wird ab 19:30 Uhr gewährt.  \nKarten sind im Sekretariat der Schule sowie in der Buchhandlung Thalia in Jülich erhältlich\, Erwachsene zahlen 12 Euro\, Kinder 8 Euro. \n
URL:https://www.herzog-magazin.de/event/bastian-sick-beim-overbacher-special/
LOCATION:Gymnasium Haus Overbach\, Franz-von-Sales Weg 1\, Jülich\, NRW\, 52428\, Deutschland
GEO:50.9418606;6.305797
X-APPLE-STRUCTURED-LOCATION;VALUE=URI;X-ADDRESS=Gymnasium Haus Overbach Franz-von-Sales Weg 1 Jülich NRW 52428 Deutschland;X-APPLE-RADIUS=500;X-TITLE=Franz-von-Sales Weg 1:geo:6.305797,50.9418606
CATEGORIES:Kabarett & Comedy,kulturelle Bildung
ATTACH;FMTTYPE=image/jpeg:https://www.herzog-magazin.de/wp-content/uploads/2019/11/Bastian-Sick-Netz.jpg
ORGANIZER;CN="F%C3%B6rderverein%20Gymnasium%20Haus%20Overbach":MAILTO:Jugendarbeit@overbach.de
END:VEVENT
END:VCALENDAR