    BEGIN:VCALENDAR
VERSION:2.0
PRODID:-//HERZOG Kultur- &amp; Stadtmagazin - ECPv4.9.2//NONSGML v1.0//EN
CALSCALE:GREGORIAN
METHOD:PUBLISH
X-WR-CALNAME:HERZOG Kultur- &amp; Stadtmagazin
X-ORIGINAL-URL:https://www.herzog-magazin.de
X-WR-CALDESC:Veranstaltungen im HERZOG Kultur- &amp; Stadtmagazin
BEGIN:VEVENT
DTSTART;TZID=Europe/Berlin:20190629T110000
DTEND;TZID=Europe/Berlin:20190629T180000
DTSTAMP:20260424T095732
CREATED:20190616T195218Z
LAST-MODIFIED:20190616T200004Z
UID:25875-1561806000-1561831200@www.herzog-magazin.de
SUMMARY:Bauernmarkt
DESCRIPTION:Ganz Rurdorf wird zum Marktplatz: Durch die Gemeinschaft\, den Zusammenhalt und die Liebe zu ihrer Kirche im Ort öffnen rund 20 Höfe und ehemalige Bauerhöfe ihre Tore und bieten Platz für über 130 Händler. Der Erlös aus dem Verkauf von Speisen und Getränken sowie Spenden und Standgeld fließen ausschließlich der Kirche zu\, die in den kommenden Jahren noch umfangreich saniert werden muss. \nDer Eintritt ist frei. Der Markt ist geöffnet an beiden Tagen von 11 – 18 Uhr.  \n
URL:https://www.herzog-magazin.de/event/bauernmarkt/2019-06-29/
LOCATION:Rurdorf\, Linnich\, 52441
CATEGORIES:Festival & Markt,Kunst & Design
ATTACH;FMTTYPE=image/jpeg:https://www.herzog-magazin.de/wp-content/uploads/2019/06/plakatbauernmarkt-klein-Kopie.jpg
END:VEVENT
END:VCALENDAR