    BEGIN:VCALENDAR
VERSION:2.0
PRODID:-//HERZOG Kultur- &amp; Stadtmagazin - ECPv4.9.2//NONSGML v1.0//EN
CALSCALE:GREGORIAN
METHOD:PUBLISH
X-WR-CALNAME:HERZOG Kultur- &amp; Stadtmagazin
X-ORIGINAL-URL:https://www.herzog-magazin.de
X-WR-CALDESC:Veranstaltungen im HERZOG Kultur- &amp; Stadtmagazin
BEGIN:VEVENT
DTSTART;TZID=Europe/Berlin:20241214T090000
DTEND;TZID=Europe/Berlin:20241214T140000
DTSTAMP:20260424T004527
CREATED:20241125T114916Z
LAST-MODIFIED:20241125T114916Z
UID:136851-1734166800-1734184800@www.herzog-magazin.de
SUMMARY:Baumverkauf
DESCRIPTION:In guter Tradition bieten die Jülicher Pfadfinder frisch geschlagene Nordmanntannen in den Größen von 1\,60 bis 2\,30 Meter ab Vereinsheim am Stadionweg 5 am Samstag\, 14. Dezember\, zwischen 9 und 13 Uhr an.  \nWie in den Vorjahren gilt der Pauschalpreis von 25 Euro in bar bei Abholung. Bestellung inklusive Größenangabe sind bis 8. Dezember per Mail an tannenbaum@pfadfinder-juelich.de oder Tel. 0170 / 8005517 möglich. Auf Wunsch werden die Bäume gegen 3 Euro Aufpreis im Stadtgebiet Jülich geliefert. Etwaige Restbestände werden ebenfalls am 14. Dezember verkauft.\nDer Link zum Bestellformular: t1p.de/Pfadfinderbaum. \n
URL:https://www.herzog-magazin.de/event/baumverkauf/
LOCATION:Truppenheim der Pfadfinder Franz von Sales\, Stadionweg 5\, Jülich\, 52428\, Deutschland
GEO:50.92457;6.34907
X-APPLE-STRUCTURED-LOCATION;VALUE=URI;X-ADDRESS=Truppenheim der Pfadfinder Franz von Sales Stadionweg 5 Jülich 52428 Deutschland;X-APPLE-RADIUS=500;X-TITLE=Stadionweg 5:geo:6.34907,50.92457
CATEGORIES:Sonstiges
ATTACH;FMTTYPE=image/jpeg:https://www.herzog-magazin.de/wp-content/uploads/2021/11/trees-4617638_1920.jpg
END:VEVENT
END:VCALENDAR