    BEGIN:VCALENDAR
VERSION:2.0
PRODID:-//HERZOG Kultur- &amp; Stadtmagazin - ECPv4.9.2//NONSGML v1.0//EN
CALSCALE:GREGORIAN
METHOD:PUBLISH
X-WR-CALNAME:HERZOG Kultur- &amp; Stadtmagazin
X-ORIGINAL-URL:https://www.herzog-magazin.de
X-WR-CALDESC:Veranstaltungen im HERZOG Kultur- &amp; Stadtmagazin
BEGIN:VEVENT
DTSTART;TZID=Europe/Berlin:20211210T190000
DTEND;TZID=Europe/Berlin:20211210T190000
DTSTAMP:20260420T044112
CREATED:20211130T132812Z
LAST-MODIFIED:20211130T132918Z
UID:71936-1639162800-1639162800@www.herzog-magazin.de
SUMMARY:Museum Linnich: Beethoven-Klaviersonaten
DESCRIPTION:Nachdem im letzten Jahr viele Veranstaltungen ausgefallen sind oder verschoben werden mussten\, präsentiert das Internationale Musik-Festival Beethoven Orbit auch ein Konzert im Deutschen Glasmalerei-Museum\, und zwar am Freitag\, 10. Dezember. Pianist Nejc Kamplet präsentiert Beethovens 32 Klaviersonaten. \nEr spielt seit seinem fünften Lebensjahr Klavier. Bereits drei Mal erhielt er die goldene Plakette bei dem Slowenischen Klavierwettbewerb TEMSIG. Darüber hinaus gewann er den ersten Preis des Grand Prize Klavierwettbewerbs in Großbritannien\, des J. Murai Wettbewerbs in Kroatien und des zweiten internationalen Wettbewerbs Forum per tasti in der Slowakei und des Debelli Stipendiums in Graz. Es folgten Auszeichnungen im Rahmen des sechsten Internationalen Young Academy Award in Italien\, des vierten Euregio Internationalen Wettbewerbs und des 15. Ettlingen Piano Competition in Deutschland. Er nahm mehrfach an Festspielen unter anderem bei dem Festival Lent in Maribor teil. \nRegelmäßige Gastspiele zusammen mit internationalen Klangkörpern unter anderem mit dem Wuhan Philharmonic Orchestra in China\, dem Festine Philharmonic Orchestra Ljubljana und dem Maribor Symphony Orchestra wurden von der Fachpresse euphorisch gefeiert. Eine rege Konzerttätigkeit rund um die Welt in Slowenien\, Slowakei\, Österreich\, Italien\, Deutschland\, China\, Kroatien und Litauen lassen ihn zu den interessantesten Pianisten seiner Generation gehören. Seit 2012 studiert er Klavier an der Kunstuniversität Graz bei Prof. Dr. Zuzana Niederdorfer. Weitere musikalische Impulse erhielt er im Rahmen von internationalen Meisterkursen bei D. Kim\, M. Voskresensky\, A. Valdma\, A. Madžar und S. Gulyak. \nBeginn ist um 19 Uhr. Einlass wird ab 18.30 Uhr gewährt. Der Eintritt kostet 20 Euro\, ermäßigt 15 Euro. Tickets können unter Telefon 02462 / 9917-0 oder per E-Mail an: info@glasmalerei-museum.de bestellt werden. \nEs gilt die aktuelle Coronaschutzverordnung (3G). Änderungen und Anpassungen unter Vorbehalt. \n
URL:https://www.herzog-magazin.de/event/beethoven-klaviersonaten-im-glasmalereimuseum/
LOCATION:Deutsches Glasmalerei-Museum Linnich\, Rurstraße 9-11\, Linnich\, NRW\, 52441\, Deutschland
CATEGORIES:Musik,Musik & Konzerte
ATTACH;FMTTYPE=image/jpeg:https://www.herzog-magazin.de/wp-content/uploads/2021/11/Nejc-Kamplet2019@Konzertdirektion-Koltun-gUG.jpg
ORGANIZER;CN="Deutsches%20Glasmalerei-Museum%20Linnich":MAILTO:info@glasmalerei-museum.de
END:VEVENT
END:VCALENDAR