    BEGIN:VCALENDAR
VERSION:2.0
PRODID:-//HERZOG Kultur- &amp; Stadtmagazin - ECPv4.9.2//NONSGML v1.0//EN
CALSCALE:GREGORIAN
METHOD:PUBLISH
X-WR-CALNAME:HERZOG Kultur- &amp; Stadtmagazin
X-ORIGINAL-URL:https://www.herzog-magazin.de
X-WR-CALDESC:Veranstaltungen im HERZOG Kultur- &amp; Stadtmagazin
BEGIN:VEVENT
DTSTART;TZID=Europe/Berlin:20190921T193000
DTEND;TZID=Europe/Berlin:20190921T193000
DTSTAMP:20260424T092910
CREATED:20190912T090950Z
LAST-MODIFIED:20190912T090950Z
UID:29011-1569094200-1569094200@www.herzog-magazin.de
SUMMARY:Benefizkonzert der Musikschule Jülich
DESCRIPTION:„Mots d’Amour“: Beim Benefizkonzert der Musikschule Jülich am Samstag\, 21. September um 19:30  am Samstag\, 21. September\, um 19:30 Uhr dreht sich alles um die Liebe. Die Sopranistin Johanna Kurth und die Pianistin Elena Kelzenberg haben ein hinreißendes Konzertprogramm zum Thema „Liebe“ zusammengestellt und einstudiert. So wie das Thema uns alle anrührt\, haben sich natürlich auch Komponisten aus allen Epochen dem Thema „Liebe“ gewidmet\, und es war nicht schwierig\, reichlich Literatur vom frühen 17.Jahrhundert bis in die Gegenwart aufzuspüren. Das Konzert\, bei dem übrigens noch einige Überraschungsgäste auftauchen werden\, findet in der Schlosskapelle Jülich statt. \nDie beiden Musikerinnen erzählen begeistert\, wieviel Freude ihnen die aufwändige Vorbereitung des Konzertes bereitet hat und wie einige der Stücke bei den gemeinsamen Proben ganz unerwartete Facetten haben aufblitzen lassen. So hält das Konzert also auch für die Künstlerinnen selber noch Überraschungen bereit. Neben Ausflügen in die Welt der Oper\, neben klassischer Klavierliteratur\, neben Musical- und Filmmelodien wird ein breiter Konzertteil der tiefen russischen Seele gewidmet sein. Wen wundert’s\, ist doch die Pianistin Elena Kelzenberg eine waschechte Moskauerin und trägt die herrliche Musik ihrer Heimat immer wieder begeistert in die unterschiedlichsten Konzerte der Herzogstadt. Mit Johanna Kurth hat Frau Kelzenberg eine Partnerin gefunden\, die mit kraftvoller Emotion aber auch einfühlend zart\, das vielschichtige Programm zu meistern versteht. \nDas Konzert ist ausgeschrieben als Benefizkonzert für den Förderverein der Musikschule. Der Förderverein ist eine wichtige Institution engagierter Bürger und Musikliebhaber\, ohne die die Arbeit der Musikschule in weiten Felder in der jetzigen Form sehr viel schwieriger wäre. In erster Linie unterstützt der Verein finanziell dort\, wo andere Mittel ausgeschöpft oder nicht zu bekommen sind. Geholfen wird bei Instrumentenkäufen\, bei der Begabtenförderung\, bei der Finanzierung von Fahrten und allerlei Zubehör. Und immer wieder springt der Förderverein in die Bresche\, wenn finanziell schlechter gestellte Familien die Gebühren für den Unterricht oder die Anschaffung eines Instrumentes nicht leisten können. So sind die Konzertbesucher aufgerufen\, eine großzügige Spende für den Förderverein im „Körbchen“ zu lassen\, damit diese wertvolle Arbeit weitere Unterstützung findet. \n
URL:https://www.herzog-magazin.de/event/benefizkonzert-der-musikschule-juelich/
LOCATION:Schlosskapelle der Zitadelle\, Schloßstraße\, Jülich\, NRW\, 52428\, Deutschland
CATEGORIES:Musik,Musik & Konzerte
ATTACH;FMTTYPE=image/jpeg:https://www.herzog-magazin.de/wp-content/uploads/2019/09/Elena-Kelzenberg-Netz.jpg
ORGANIZER;CN="Musikschule%20J%C3%BClich":MAILTO:Musikschule@juelich.de
END:VEVENT
END:VCALENDAR