    BEGIN:VCALENDAR
VERSION:2.0
PRODID:-//HERZOG Kultur- &amp; Stadtmagazin - ECPv4.9.2//NONSGML v1.0//EN
CALSCALE:GREGORIAN
METHOD:PUBLISH
X-WR-CALNAME:HERZOG Kultur- &amp; Stadtmagazin
X-ORIGINAL-URL:https://www.herzog-magazin.de
X-WR-CALDESC:Veranstaltungen im HERZOG Kultur- &amp; Stadtmagazin
BEGIN:VEVENT
DTSTART;TZID=Europe/Berlin:20190926T190000
DTEND;TZID=Europe/Berlin:20190926T190000
DTSTAMP:20260422T072909
CREATED:20190919T091921Z
LAST-MODIFIED:20190919T091921Z
UID:29308-1569524400-1569524400@www.herzog-magazin.de
SUMMARY:Best of Juliacum Brassers in der Christuskirche
DESCRIPTION:Best of „Juliacum Brassers“: Das beliebte Blechbläserquartett lässt 10 Jahre Revue passieren. Zehn Jahre gibt es das Ensemble nun schon. Auch wenn man in den Jahren vor 2009 schon gemeinsam auf der Bühne stand\, ist doch die Gruppe unter ihrem heutigen Namen und mit dem beliebten Konzept\, hehre Klänge mit guter Laune zu paaren und ein Publikum mit Spielfreude und Wortwitz zu überzeugen nun genau zehn Jahre alt. \nDarum werden die vier professionellen Musiker\, die das Blechbläserquartett „Juliacum Brassers“ bilden bei den diesjährigen Septemberkonzerten eine Zusammenstellung der bemerkenswertesten Programmpunkte aus den 10 vergangenen September-Konzertreihen präsentieren und zu Gehör bringen. Die Musiker freuen sich auf dieses Programm ganz besonders\, denn bei der Probenarbeit stellte sich heraus\, dass Werke\, die noch vor wenigen Jahren nur mit höchstem Aufwand und Schweiß auf allen Stirnen zu meistern waren\, heute fast aus dem Ärmel geschüttelt werden können. So werden Stücke aus den Programmen „Luther\, Laster\, Leidenschaft“\, „Von Fürsten und Ganoven“\, „Oma liebt Oper“ und andere neu aufgelegt und hoffentlich noch schöner als ehedem musiziert werden. Auch Süffiges aus dem Themenschwerpunkt 2017 „Weine“ darf nicht fehlen. \nZwar werden in diesem Jahr auffallend viel Originalkompositionen für die Besetzung mit vier Blechbläsern gespielt werden\, trotzdem werden die Zuhörer wie stets ausreichend Gelegenheit finden\, die feingeistige Arrangierkunst vom Posaunisten der Gruppe\, Johannes Meures zu bestaunen. Glazounow\, Bernstein\, Mozart\, Puccini\, Mendelssohn-Bartholdy sind einige Größen\, die dem Besucher bei den Konzerten begegnen werden. \nBegeisternd und berührend soll es werden und wie immer auch heiter\, ein wilder Ritt durch Stile und Epochen. Ein schöner Konzertabend mit Freunden steht bevor\, mit netten Menschen auf der Bühne und davor. Und während der Pause und nach dem Konzert wird es bei einem freundlichen Getränk wieder anregende Gespräche mit den vier Pustebären geben. \nDas Konzert findet statt am Donnerstag\, 26. September\, um 19:00 Uhr in der Christuskirche Jülich\, Düsseldorfer Straße. Der Eintrittspreis ist mit 10 Euro / ermäßigt 5 Euro bewusst moderat gehalten. \n
URL:https://www.herzog-magazin.de/event/best-of-juliacum-brassers-in-der-christuskirche/
LOCATION:Christuskirche\, Düsseldorfer Straße\, Jülich\, NRW\, 52428\, Deutschland
GEO:50.9238002;6.3571608
X-APPLE-STRUCTURED-LOCATION;VALUE=URI;X-ADDRESS=Christuskirche Düsseldorfer Straße Jülich NRW 52428 Deutschland;X-APPLE-RADIUS=500;X-TITLE=Düsseldorfer Straße:geo:6.3571608,50.9238002
CATEGORIES:Musik,Musik & Konzerte
ATTACH;FMTTYPE=image/jpeg:https://www.herzog-magazin.de/wp-content/uploads/2018/08/2018-09-27-Juliacum-Brassers.jpg
END:VEVENT
END:VCALENDAR