    BEGIN:VCALENDAR
VERSION:2.0
PRODID:-//HERZOG Kultur- &amp; Stadtmagazin - ECPv4.9.2//NONSGML v1.0//EN
CALSCALE:GREGORIAN
METHOD:PUBLISH
X-WR-CALNAME:HERZOG Kultur- &amp; Stadtmagazin
X-ORIGINAL-URL:https://www.herzog-magazin.de
X-WR-CALDESC:Veranstaltungen im HERZOG Kultur- &amp; Stadtmagazin
BEGIN:VEVENT
DTSTART;TZID=Europe/Berlin:20260110T140000
DTEND;TZID=Europe/Berlin:20260110T170000
DTSTAMP:20260421T093102
CREATED:20260107T115502Z
LAST-MODIFIED:20260107T120232Z
UID:159772-1768053600-1768064400@www.herzog-magazin.de
SUMMARY:Besucherfahrtag des EAKJ
DESCRIPTION:Der Eisenbahn-Amateur-Klub Jülich e.V. gibt am Samstag\, 10. Januar\, zwischen 14 und 17 Uhr allen Besuchern der Anlage die Möglichkeit\, eigene Züge fahren zu lassen (Spur H0\, 2 Leiter\, Analog oder Digital). Den EAKJ findet man in den Klubräumen\, Bahnhofstr. 13 in Jülich\, über dem KuBa. Der eingang befindet sich auf der Eingang Gleisseite. \nWeitere Informationen gibt es unter www.eakj.de. \n
URL:https://www.herzog-magazin.de/event/besucherfahrtag-des-eakj-2-copy/
LOCATION:Klubräume des EAKJ\, Bahnhofstraße 13\, Jülich\, 52428
GEO:50.9183881;6.3677328
X-APPLE-STRUCTURED-LOCATION;VALUE=URI;X-ADDRESS=Klubräume des EAKJ Bahnhofstraße 13 Jülich 52428;X-APPLE-RADIUS=500;X-TITLE=Bahnhofstraße 13:geo:6.3677328,50.9183881
CATEGORIES:Hobby
ATTACH;FMTTYPE=image/jpeg:https://www.herzog-magazin.de/wp-content/uploads/2026/01/20211108_195945.jpg
ORGANIZER;CN="Eisenbahn-Amateur-Klub%20J%C3%BClich%20%28EAKJ%29":MAILTO:info@eakj.de
END:VEVENT
END:VCALENDAR