    BEGIN:VCALENDAR
VERSION:2.0
PRODID:-//HERZOG Kultur- &amp; Stadtmagazin - ECPv4.9.2//NONSGML v1.0//EN
CALSCALE:GREGORIAN
METHOD:PUBLISH
X-WR-CALNAME:HERZOG Kultur- &amp; Stadtmagazin
X-ORIGINAL-URL:https://www.herzog-magazin.de
X-WR-CALDESC:Veranstaltungen im HERZOG Kultur- &amp; Stadtmagazin
BEGIN:VEVENT
DTSTART;TZID=Europe/Berlin:20230324T180000
DTEND;TZID=Europe/Berlin:20230324T180000
DTSTAMP:20260424T225438
CREATED:20230321T115819Z
LAST-MODIFIED:20230321T115819Z
UID:102869-1679680800-1679680800@www.herzog-magazin.de
SUMMARY:Bezirksparteitag der CDU
DESCRIPTION:Der CDU Bezirksverband Aachen lädt  zum CDU Bezirksparteitag mit Neuwahl des Bezirksvorstand am Freitag\, 24. März\, ein. Die Veranstaltung findet ab 18 Uhr in der Kulturmuschel Jülich statt. Nach der Vorstandswahl der 137 Delegierten geht der CDU-Bezirksparteitag um 19.30 Uhr in eine öffentliche Veranstaltung über. Dort werden die Anwesenden vom Bezirksvorsitzenden Thomas Rachel begrüßt. Zuem ist eine Rede von Generalsekretär Paul Ziemiak MdB vorgesehen. \n
URL:https://www.herzog-magazin.de/event/bezirksparteitag-der-cdu/
LOCATION:Kulturmuschel im Brückenkopf-Park\, Brückenkopf-Park Jülich\, Jülich\, NRW\, 52428\, Deutschland
CATEGORIES:Politik,Versammlungen
ATTACH;FMTTYPE=image/jpeg:https://www.herzog-magazin.de/wp-content/uploads/2023/03/Offener_CDU-Bezirksparteitag-2023.jpg
END:VEVENT
END:VCALENDAR