    BEGIN:VCALENDAR
VERSION:2.0
PRODID:-//HERZOG Kultur- &amp; Stadtmagazin - ECPv4.9.2//NONSGML v1.0//EN
CALSCALE:GREGORIAN
METHOD:PUBLISH
X-WR-CALNAME:HERZOG Kultur- &amp; Stadtmagazin
X-ORIGINAL-URL:https://www.herzog-magazin.de
X-WR-CALDESC:Veranstaltungen im HERZOG Kultur- &amp; Stadtmagazin
BEGIN:VEVENT
DTSTART;TZID=Europe/Berlin:20230720T080000
DTEND;TZID=Europe/Berlin:20230720T170000
DTSTAMP:20260421T224732
CREATED:20230713T120253Z
LAST-MODIFIED:20230713T120253Z
UID:110944-1689840000-1689872400@www.herzog-magazin.de
SUMMARY:Biberexkursion in Barmen
DESCRIPTION:Ferientage in der Natur: Biberexkursion mit der Biologischen Station Düren. Wer hat noch nicht von ihm gehört? Der Biber lebt mittlerweile an der Rur und in vielen anderen Flüssen im Kreis Düren\, obwohl er vor 50 Jahren in unserer Region noch ausgestorben war. In den Sommerferien bietet die Biologische Station im Kreis Düren e.V. für alle Interessierte ab sechs Jahren einen Termin im Nordkreis zu den Biberspielen an.  \nWas ist das Besondere an den Zähnen? Wie fühlen die Krallen an? Und was macht der Biber eigentlich im Winter? Neben diesen Fragen wird es auch eine Exkursion in das Reich des Bibers und viele Spiele rund um den Burgenbauer mit Biss geben. \nDie Biberexkursion findet am Donnerstag\, 20. Juli\, in Barmen statt. Start ist um 14 Uhr. Der genaue Treffpunkt wird bei Anmeldung bekannt gegeben. \nDie Teilnahme kostet 5 Euro pro Person. Anmeldungen sind an info@biostation-dueren.de oder telefonisch unter 02427 / 94987-0 zu richten. \n
URL:https://www.herzog-magazin.de/event/biberexkursion-in-barmen/
LOCATION:Barmen\, Seestraße\, Jülich-Barmen\, NRW\, 52428\, Deutschland
GEO:50.944795;6.3072626
X-APPLE-STRUCTURED-LOCATION;VALUE=URI;X-ADDRESS=Barmen Seestraße Jülich-Barmen NRW 52428 Deutschland;X-APPLE-RADIUS=500;X-TITLE=Seestraße:geo:6.3072626,50.944795
CATEGORIES:Exkursion,für Jugendliche,für Kinder,Natur / Umwelt
ATTACH;FMTTYPE=image/jpeg:https://www.herzog-magazin.de/wp-content/uploads/2023/07/Auf_der_Spur_der_Biber_Autor_BSDueren.jpg
ORGANIZER;CN="Biologische%20Station%20D%C3%BCren":MAILTO:dagmar.ohlhoff@biostation-dueren.de
END:VEVENT
END:VCALENDAR