    BEGIN:VCALENDAR
VERSION:2.0
PRODID:-//HERZOG Kultur- &amp; Stadtmagazin - ECPv4.9.2//NONSGML v1.0//EN
CALSCALE:GREGORIAN
METHOD:PUBLISH
X-WR-CALNAME:HERZOG Kultur- &amp; Stadtmagazin
X-ORIGINAL-URL:https://www.herzog-magazin.de
X-WR-CALDESC:Veranstaltungen im HERZOG Kultur- &amp; Stadtmagazin
BEGIN:VEVENT
DTSTART;TZID=Europe/Berlin:20220507T200000
DTEND;TZID=Europe/Berlin:20220507T220000
DTSTAMP:20260421T013409
CREATED:20220428T110140Z
LAST-MODIFIED:20220428T110140Z
UID:78924-1651953600-1651960800@www.herzog-magazin.de
SUMMARY:Biergarten an der Rur: Mai / Juni
DESCRIPTION:Seine Pforten an der Rur auf der Ellbachstraße in Jülich eröffnet der Biergarten mit Herz in diesem Jahr zum dritten Mal in Folge. Von Mittwochs bis Sonntags steht Veronika Wöbbeking mit ihrem Team wieder für Gäste bereit. Bei einem gepflegten und schönen Ambiente kann man hier unter lauschigen Bäumen das ein oder andere Getränk genießen oder eine Kleinigkeit essen. \nChillig wird es ab Mai jeden zweiten Mittwoch und Samstags. Dann fängt die Livemusik wieder an. Von 20 bis 22 Uhr werden an diesen Tagen ausgewählte Künstler auftreten. Zum Teil neue\, aber auch viele\, die sich in den letzten zwei Jahren in die Ohren und Herzen des Publikums gespielt haben.  \nDer Eintritt ist wie immer frei\, es wird um Hutspenden gebeten.  \nMai: \nSamstag\,   7. Mai	Summer of Love / Flower Power music \nMittwoch\, 11. Mai	Vera Derichs und Daniel Odenthal / Allroundmusic \nSamstag\,  14. Mai	Tom Drost / Covermusic \nSamstag\,  21. Mai	Dabbel Band Duo / Coversongs \nMittwoch\, 25. Mai	Take Two / Coverrocksongs \nSamstag\, 28. Mai	Marcel Köllermeyer / 80th Songs \nJuni: \nSamstag\,   4. Juni	John Festo / American Music \nMittwoch\,  8. Juni	Rob Sure / 80th and more \nFreitag\,  10. Juni	Jolina Carl / Country Music \nSamstag\,  18. Juni	Robert Trajkov / Coversongs \nMittwoch\, 22. Juni	Take Two / Coverrocksongs \nSamstag\,  25. Juni	HAM unplugged / Rock\, Blues\, Folk and more \nReservierungen könnten unter Tel. 0160 90 14 14 33 vorgenommen werden. \n
URL:https://www.herzog-magazin.de/event/biergarten-an-der-rur-mai-juni/2022-05-07/
LOCATION:Biergarten mit Herz\, Kirmes- oder Ruchlinsky-Brücke zum Stadtgarten des Brückenkopf-Parks\, Jülich\, NRW\, 52428\, Deutschland
CATEGORIES:Musik,Musik & Konzerte
ATTACH;FMTTYPE=image/jpeg:https://www.herzog-magazin.de/wp-content/uploads/2022/04/Biergarten-mit-Herz-Foto-Dorothee-Schenk.jpg
ORGANIZER;CN="Virginia%20Lisken-Dorp":MAILTO:info@noiseless-juelich.de
END:VEVENT
END:VCALENDAR