    BEGIN:VCALENDAR
VERSION:2.0
PRODID:-//HERZOG Kultur- &amp; Stadtmagazin - ECPv4.9.2//NONSGML v1.0//EN
CALSCALE:GREGORIAN
METHOD:PUBLISH
X-WR-CALNAME:HERZOG Kultur- &amp; Stadtmagazin
X-ORIGINAL-URL:https://www.herzog-magazin.de
X-WR-CALDESC:Veranstaltungen im HERZOG Kultur- &amp; Stadtmagazin
BEGIN:VEVENT
DTSTART;TZID=Europe/Berlin:20230429T193000
DTEND;TZID=Europe/Berlin:20230429T193000
DTSTAMP:20260420T171437
CREATED:20230403T111425Z
LAST-MODIFIED:20230403T111425Z
UID:104039-1682796600-1682796600@www.herzog-magazin.de
SUMMARY:Bläck Fööss in der Kulturmuschel
DESCRIPTION:Die Bläck Fööss sind am Samstag\, 29. April\, zu Gast in der Kulturmuschel im Brückenkopf-Park Jülich. Beginn ist um 19.30 Uhr; Einlass wird ab 18.30 Uhr gewährt. \nDer Eintritt kostet im Vorverkauf  VVK 34\,11 Euro. Tickets sind an der Kasse vom Brückenkopf-Park sowie über www.brueckenkopf-park.de erhältlich. \nDie Bläck Fööss sind seit 1970 fester Bestandteil des Kölner Kulturbetriebes und gehören zu Köln wie der Dom. Hinter der Band liegen 52 Jahre mit kontinuierlich jeweils zwischen 200 und 250 Auftritten pro Jahr. Mittlerweile 44 Alben und mehr als 450 Songs sind die stolze Bilanz dieses halben Jahrhunderts musikalischen Schaffens.  \nDer Beitrag der Band zum Erhalt der kölschen Sprache ist allgemein anerkannt und viele Lieder aus ihrem riesigen Fundus sind schon längst zu Evergreens geworden. Manche haben gar bereits den Status von Volksliedern und gehören fest zum kölschen Liedgut. Seit März 2023 sind die Fööss nun in folgender Besetzung unterwegs: Mirko Bäumer (Gesang)\, Christoph Granderath (Gitarre\, Banjo\, Mandoline\, Gesang)\, Pit Hupperten (Gesang\, Gitarre)\, Hanz Thodam (Bass\, Gesang)\, Andreas Wegener (Keyboards\, Akkordeon\, Gesang) sowie Alex Vesper (Schlagzeug\, Gesang). \n
URL:https://www.herzog-magazin.de/event/blaeck-foeoess-in-der-kulturmuschel/
LOCATION:Kulturmuschel im Brückenkopf-Park\, Brückenkopf-Park Jülich\, Jülich\, NRW\, 52428\, Deutschland
CATEGORIES:Musik,Musik & Konzerte
ATTACH;FMTTYPE=image/jpeg:https://www.herzog-magazin.de/wp-content/uploads/2023/04/Muschel-olaf-Kiel-D_YUN_0006.jpg
ORGANIZER;CN="Stadt%20J%C3%BClich":MAILTO:info@juelich.de
END:VEVENT
END:VCALENDAR