    BEGIN:VCALENDAR
VERSION:2.0
PRODID:-//HERZOG Kultur- &amp; Stadtmagazin - ECPv4.9.2//NONSGML v1.0//EN
CALSCALE:GREGORIAN
METHOD:PUBLISH
X-WR-CALNAME:HERZOG Kultur- &amp; Stadtmagazin
X-ORIGINAL-URL:https://www.herzog-magazin.de
X-WR-CALDESC:Veranstaltungen im HERZOG Kultur- &amp; Stadtmagazin
BEGIN:VEVENT
DTSTART;TZID=Europe/Berlin:20210521T183000
DTEND;TZID=Europe/Berlin:20210521T183000
DTSTAMP:20260421T162657
CREATED:20210519T161425Z
LAST-MODIFIED:20210519T161508Z
UID:58001-1621621800-1621621800@www.herzog-magazin.de
SUMMARY:Blaue Stunde: Wanderung um Goltsteinkuppe
DESCRIPTION:Sinkende Infektionszahlen lassen hoffen\, dass auch die Saison 2021 der Erlebnisführungen im indeland bald beginnen kann. Den Auftakt soll am 21. Mai (Freitag) die beliebte Erlebnisführung „Blaue Stunde am Indemann – eine Sonnenuntergangswanderung rund um die Goltsteinkuppe“ machen. Unter der Leitung von Gästeführer Michael Schulze erhalten die Teilnehmenden in der Dämmerung faszinierende Eindrücke vom Tagebau Inden mit beleuchteten Schaufelradbaggern. \nVom Aussichtsturm Indemann folgt die Tour den Spuren der Umsiedlung und Rekultivierung. Die Wandergäste erfahren dabei die räumlichen Auswirkungen des Braunkohletagebaus in all seinen Facetten. Und zum krönenden Abschluss wartet am Ende noch der bunt beleuchtete Indemann. \nDie Führung mit maximal 15 Personen beginnt am 21. Mai um 18.30 Uhr am Indemann (Adresse: Indemann 1\, 52459 Inden) und dauert etwa 3 Stunden (8\,5 Kilometer Wanderung\, Schwierigkeit: einfach). Die Teilnahme kostet 10 Euro\, für Kinder bis 14 Jahre 7 Euro. \nDie Veranstaltung kann selbstverständlich nur bei entsprechend niedrigen Infektionszahlen stattfinden. Aufgrund der unsicheren Corona-Situation und der geltenden Hygienebestimmungen ist eine Anmeldung zwingend erforderlich. Anmeldungen sind möglich unter info@weggefaehrte.com oder telefonisch unter 0176 / 270 957 93. \n
URL:https://www.herzog-magazin.de/event/blaue-stunde-wanderung-ueber-goltsteinkuppe/
LOCATION:NRW\, Deutschland
CATEGORIES:Exkursion,für Familien,Gesundheit,Natur / Umwelt,Sonstiges,Sport
ATTACH;FMTTYPE=image/jpeg:https://www.herzog-magazin.de/wp-content/uploads/2021/05/Blaue-Stunde-am-Indemann_Credit-ThomasHinz.jpg
END:VEVENT
END:VCALENDAR