    BEGIN:VCALENDAR
VERSION:2.0
PRODID:-//HERZOG Kultur- &amp; Stadtmagazin - ECPv4.9.2//NONSGML v1.0//EN
CALSCALE:GREGORIAN
METHOD:PUBLISH
X-WR-CALNAME:HERZOG Kultur- &amp; Stadtmagazin
X-ORIGINAL-URL:https://www.herzog-magazin.de
X-WR-CALDESC:Veranstaltungen im HERZOG Kultur- &amp; Stadtmagazin
BEGIN:VEVENT
DTSTART;TZID=Europe/Berlin:20220522T100000
DTEND;TZID=Europe/Berlin:20220522T180000
DTSTAMP:20260423T061823
CREATED:20220519T122226Z
LAST-MODIFIED:20220519T123005Z
UID:79930-1653213600-1653242400@www.herzog-magazin.de
SUMMARY:Blaulicht-Tag: Lebensretter hautnah erleben
DESCRIPTION:Runde Geburtstage werden normalerweise gebührend gefeiert. Der Kreis Düren wird in diesem Jahr 50 Jahre jung und möchte dieses Jubiläum unter Berücksichtigung von leider vielen Krisen in letzter Zeit in einem angemessenen Rahmen begehen. So wird es einige Veranstaltungen geben\, die besonders für die Bürgerinnen und Bürger des Kreises gedacht sind – auch mit dem Ziel\, für etwas Abwechslung zu sorgen. \nDiese Abwechslung wird es mit Sicherheit beim Blaulicht-Tag für die ganze Familie am Sonntag\, 22. Mai\, auf dem Gelände des Campus Stockheim am ehemaligen Obi-Markt (Kollweg 9-13) geben. Bei der „BOS-Leistungsschau“ (BOS steht dabei für „Behörden und Organisationen mit Sicherheitsaufgaben“) gibt es von 10 bis 18 Uhr einen spannenden Einblick in die Arbeit von Feuerwehr\, Rettungsdiensten\, Katastrophenschutz\, Polizei\, Hilfsorganisationen und vielen mehr. Auch das Notfallbildungszentrum Eifel-Rur und das Institut der Feuerwehr (IdF) stellen sich vor.  \n„Die Besucherinnen und Besucher erleben einen Tag\, bei dem sie gefühlt mittendrin im Einsatzgeschehen sind. Sie können alles genau unter die Lupe nehmen\, Fragen an die Einsatzkräfte stellen und viel lernen. Vorbeikommen lohnt sich“\, sagt Landrat Wolfgang Spelthahn. Der Tag ist sicherlich auch für diejenigen aufschlussreich\, die ihre berufliche Zukunft in diesen Bereichen sehen. \nOb Hochwasser\, Waldbrände\, Erste Hilfe\, Rettungshunde oder Einbruchschutz – beim Blaulichttag gibt es einen Einblick in die spannende und wichtige Arbeit der Lebensretter\, den man sonst nur selten bekommt. Alle Fahrzeuge und Geräte können ohne Berührungsängste besichtigt werden. Ein Blick in einen Polizeiwagen war vermutlich selten so entspannt. Die Polizei bietet zudem an\, das eigene Fahrrad codieren zu lassen. Das ist bei einem eventuellen Diebstahl hilfreich. Hierfür müssen der Personalausweis sowie der Kaufbeleg mitgebracht werden. \nEine Interviewrunde mit Landrat\, Kreisbrandmeister und Vertretern des Instituts der Feuerwehr (IdF) startet um 11.15 Uhr mit der Möglichkeit des gemeinsamen Rundgangs. Bei mehreren Vorführungen zeigt die Feuerwehr eindrucksvoll\, wie Menschen gerettet und anschließend betreut werden. Außerdem wird demonstriert\, wie die Einsatzkräfte mit gefährlichen Stoffen umgehen\, wenn diese bei einem Unfall austreten. So sind um 12 und 16 Uhr moderierte Brandschutzübung sowie um 14 Uhr eine moderierte Gefahrgutübung geplant. \nFür das leiblich Wohl vor Ort sorgen Getränke- und Essensstände.  \nWeitere Infos zur BOS-Leistungsschau auf www.kreis-dueren.de \n
URL:https://www.herzog-magazin.de/event/blaulicht-tag-lebensretter-hautnah-erleben/
LOCATION:Allgemeiner Ort\, NRW\, Deutschland
CATEGORIES:für Familien,Informationsveranstaltung,Polizei,Präsenz-Veranstaltung,Show / Unterhaltung / Talk
ATTACH;FMTTYPE=image/jpeg:https://www.herzog-magazin.de/wp-content/uploads/2022/05/Eröffnung-IdF_Feuerwehrübung-1.jpg
ORGANIZER;CN="Kreis%20D%C3%BCren":MAILTO:mail@kreis-dueren.de
END:VEVENT
END:VCALENDAR