    BEGIN:VCALENDAR
VERSION:2.0
PRODID:-//HERZOG Kultur- &amp; Stadtmagazin - ECPv4.9.2//NONSGML v1.0//EN
CALSCALE:GREGORIAN
METHOD:PUBLISH
X-WR-CALNAME:HERZOG Kultur- &amp; Stadtmagazin
X-ORIGINAL-URL:https://www.herzog-magazin.de
X-WR-CALDESC:Veranstaltungen im HERZOG Kultur- &amp; Stadtmagazin
BEGIN:VEVENT
DTSTART;TZID=Europe/Berlin:20190629T100000
DTEND;TZID=Europe/Berlin:20190629T210000
DTSTAMP:20260424T094058
CREATED:20190311T080255Z
LAST-MODIFIED:20190524T091358Z
UID:21424-1561802400-1561842000@www.herzog-magazin.de
SUMMARY:Blaulichttag mit Infos und Musik
DESCRIPTION:Die Jülicher Hilfsorganisationen von DRK\, MHD\, THW\, Polizei bis zur Notfallseelsorge laden auch in diesem Jahr wieder zum Blaulichttag auf den Schlossplatz in Jülich ein. Alle Interessierten können sich am Samstag\, 29. Juni\, ab 10 Uhr über die verschiedenen Organisationen\, die bei Notfällen\, Katastrohen und Unfällen für die Sicherheit da sind\, informieren.  \nDer Tag steht für die ganze Familie im Zeichen von Mitmachen\, Fragen und Ausprobieren. Viele Mitmachaktionen warten darauf ausprobiert zu werden. Den gesamten Tag über wird es rund um den Schlossplatz und am Wallgraben moderierte Übungen geben. Die Besucher erhalten so die Möglichkeit das Aufgabenspektrum der Hilfsorganisationen kennenzulernen und können die Abläufe\, die im Ernstfall in Gang gesetzt werden\, selbst nachvollziehen.  \nFür das leibliche Wohl ist mit Imbisswagen\, Burgerstand\, einer Süßigkeiten-Meile sowie Cocktails und Getränkewagen bestens gesorgt. Ab 18 Uhr erwartet die Zuschauer und Zuhörer Live-Musik von Zollhuus-Colonia und der Jülicher Band Cupful Swill. \n
URL:https://www.herzog-magazin.de/event/blaulichttag/
LOCATION:Schlossplatz\, Jülich\, NRW\, 52428\, Deutschland
ATTACH;FMTTYPE=image/jpeg:https://www.herzog-magazin.de/wp-content/uploads/2019/03/blue-light-73088_1920.jpg
END:VEVENT
END:VCALENDAR