    BEGIN:VCALENDAR
VERSION:2.0
PRODID:-//HERZOG Kultur- &amp; Stadtmagazin - ECPv4.9.2//NONSGML v1.0//EN
CALSCALE:GREGORIAN
METHOD:PUBLISH
X-WR-CALNAME:HERZOG Kultur- &amp; Stadtmagazin
X-ORIGINAL-URL:https://www.herzog-magazin.de
X-WR-CALDESC:Veranstaltungen im HERZOG Kultur- &amp; Stadtmagazin
BEGIN:VEVENT
DTSTART;TZID=Europe/Berlin:20191006T110000
DTEND;TZID=Europe/Berlin:20191006T000000
DTSTAMP:20260420T170040
CREATED:20191005T125629Z
LAST-MODIFIED:20191005T125629Z
UID:29799-1570359600-1570320000@www.herzog-magazin.de
SUMMARY:Blues & more mit "Muddy Sand"
DESCRIPTION:Die Reihe „Blues & more“ des Jazzclub Jülich geht in die dritte Runde. Nachdem als „Anheizer“ die Jazzclub-Hausband „Freundschaft +“ für Stimmung gesorgt haben\, übergeben die Musiker die Bühen an „Muddy Sand“. Die  deutsch-belgische Band existiert seit 2012. Obwohl die musikalischen Wurzeln der Bandmitglieder sich durchaus unterscheiden\, lässt sich ihre Musik am ehesten in das Genre Rhythm n´Blues\,  Modern Rock\, Alternativ und Soul einordnen. Das Publikum erwartet ein Song Mix aus eigenen Songs und ausgewählten Coversongs. Dabei sind unter anderem Titel von Otis Redding\, Amy Winehouse\, Bob Dylan\,  Black Keys\, The White Stripes oder Led Zeppelin. Alles Musiker\, die letztlich ihre Wurzeln in der „Ursuppe des Blues“ haben. Das ist mit Muddy Sand gemeint. Muddy Sand das sind  Ali Daccour (Vocals/ Gitarre)\, Christian Staffel (Bass)\,  Markus Rieb (Gitarre) und Gerold Halfkann (Schlagzeug). Die Texte beschäftigen sich auf surrealer Weise mit alltäglichen Themen wobei auch kritisch unter anderem die moderner Sklaverei und der rücksichtslose Umgang mit Mensch und Natur thematisiert werden.  \nWem es daraufhin kräftig in den Fingern juckt\, kann sich gerne auf der offenen Bühne beweisen. Überraschende Konstellationen\, interessante Spielarten und spannende Interpretationen dürfen erwartet werden. Egal\, ob Rock‘n‘Roll\, Funk\, Pop oder Jazz: Präsentiert und gespielt werden darf alles\, was hörens- wie erlebenswert ist und doch irgendwie mit dem Blues verwandt ist. \nEine Backline mit Mikrophonie\, Gitarren- und Bassverstärker sowie Schlagzeug ist vorhanden. Instrumente und Drumsticks sollten mitgebracht werden. \nDer Eintritt ist frei. Um eine kleine Spende für die armen und sicher sehr durstigen Musiker wird gebeten. \n
URL:https://www.herzog-magazin.de/event/blues-more-mit-muddy-sand/
LOCATION:Kulturbahnhof (KuBa) Jülich\, Bahnhofsstraße 13\, Jülich\, NRW\, 52428\, Deutschland
GEO:50.91828;6.36768
X-APPLE-STRUCTURED-LOCATION;VALUE=URI;X-ADDRESS=Kulturbahnhof (KuBa) Jülich Bahnhofsstraße 13 Jülich NRW 52428 Deutschland;X-APPLE-RADIUS=500;X-TITLE=Bahnhofsstraße 13:geo:6.36768,50.91828
CATEGORIES:Musik,Musik & Konzerte
ATTACH;FMTTYPE=image/jpeg:https://www.herzog-magazin.de/wp-content/uploads/2019/10/2019-10-06-Muddy-Sand-Bandinfo-2019.jpg
ORGANIZER;CN="Jazzclub%20J%C3%BClich%20e.V.":MAILTO:jueljazz@web.de
END:VEVENT
END:VCALENDAR