    BEGIN:VCALENDAR
VERSION:2.0
PRODID:-//HERZOG Kultur- &amp; Stadtmagazin - ECPv4.9.2//NONSGML v1.0//EN
CALSCALE:GREGORIAN
METHOD:PUBLISH
X-WR-CALNAME:HERZOG Kultur- &amp; Stadtmagazin
X-ORIGINAL-URL:https://www.herzog-magazin.de
X-WR-CALDESC:Veranstaltungen im HERZOG Kultur- &amp; Stadtmagazin
BEGIN:VEVENT
DTSTART;TZID=Europe/Berlin:20250628T110000
DTEND;TZID=Europe/Berlin:20250628T110000
DTSTAMP:20260421T020835
CREATED:20250617T095935Z
LAST-MODIFIED:20250617T100946Z
UID:148827-1751108400-1751108400@www.herzog-magazin.de
SUMMARY:Bobby-Car-Rennen in Kirchberg
DESCRIPTION:Am Samstag\, den 28. Juni\, ist es in Kirchberg wieder so weit: Zum 3. Mal\nstarten ab 11 Uhr beim BOBBYCAR-Rennen wieder mutige Rennfahrer/-innen mit ihren\nRennboliden an gewohnter Stelle den Berg hinab. \nEingeladen von der Dorfgemeinschaft Kirchberg e.V. sind Starter von 8 bis 88 eingeladen\, sich auf vier unmotorisierten Rädern auf den Abhang zu begeben. \nVon da geht es abwärts mit allem\, was irgendwie an ein Rutschauto erinnert. Dabei sind der Fantasie ausnahmsweise mal keine Grenzen gesetzt\, sowohl was die eigene Kostümierung als auch die des Fahrzeugs betrifft. Flankiert von Strohballen rechts und links der Piste bekommt das Rennen nicht nur die nötige Portion Sicherheit\, sondern wirkt auch gleich noch mal authentischer. Oben am Berg wartet für die Fahrer natürlich auch wieder eine Erfrischung und am Ende die Siegerehrung. \nAnmeldungen können per E-Mail an thomas.jelen@gmx.de gesendet werden. Bei Team-Anmeldungen ist ein (möglichst witziger) Team-Name anzugeben.\nAlle Fahrer müssen einen für den Straßenverkehr zugelassenen Helm (Motorradhelme nach DIN- oder ECE-Norm) sowie Schutzkleidung (Jacke\, lange Hose und Ärmel\, festes Schuhwerk\, Handschuhe\, Ellenbogen- und Knieschützer) tragen. \n
URL:https://www.herzog-magazin.de/event/bobby-car-rennen-in-kirchberg-copy/
LOCATION:Kirchberg
CATEGORIES:Festival & Markt,für Familien,für Jugendliche,für Kinder,Sport
ATTACH;FMTTYPE=image/jpeg:https://www.herzog-magazin.de/wp-content/uploads/2024/07/Bobbycarrennen_in_Kirchberg.jpg
ORGANIZER;CN="Dorfgemeinschaft%20Zukunft%20Kirchberg":MAILTO:info@juelich-kirchberg.de
END:VEVENT
END:VCALENDAR