    BEGIN:VCALENDAR
VERSION:2.0
PRODID:-//HERZOG Kultur- &amp; Stadtmagazin - ECPv4.9.2//NONSGML v1.0//EN
CALSCALE:GREGORIAN
METHOD:PUBLISH
X-WR-CALNAME:HERZOG Kultur- &amp; Stadtmagazin
X-ORIGINAL-URL:https://www.herzog-magazin.de
X-WR-CALDESC:Veranstaltungen im HERZOG Kultur- &amp; Stadtmagazin
BEGIN:VEVENT
DTSTART;TZID=Europe/Berlin:20220717T110000
DTEND;TZID=Europe/Berlin:20220717T170000
DTSTAMP:20260423T110726
CREATED:20220707T104213Z
LAST-MODIFIED:20220707T112348Z
UID:83886-1658055600-1658077200@www.herzog-magazin.de
SUMMARY:Brückenkopf-Park: Märchenträume & Zoofest
DESCRIPTION:Nicht nur Kinder lieben sie\, sondern auch Erwachsene – die Märchen. Sie beflügeln die Fantasie und fördern die Kreativität der Kinder. Märchenhaft wird es einmal mehr im Brückenkopf-Park Jülich am Sonntag\, 17. Juli von 11 bis 17 Uhr. An ausgewählten Orten präsentieren sich zauberhaft gekleidete Vorleser und Vorleserinnen den vielen kleinen und großen Zuhörern.  \nAuch der Kulturverein City Starlights beteiligt sich an den Märchenträumen im Brückenkopf-Park Jülich. Nach zweijähriger\, coronabedingter Bühnenabstinenz zeigt sich der Verein mit dem Stück „Gottlieb und die Märchlinge“ bei den Märchenträumen auf der Bühne im Rosengartenzelt. Die Märchlinge entführen mit ihren fantasievollen Kostümen die Besucher in das mächtige Reich aus 1001 Nacht sowie in die geheimnisvollen Tiefen der chinesischen Drachenwelt. Die Show beginnt jeweils um 12\, 14 und 16 Uhr und dauert jeweils etwa 45 Minuten. Zusätzlich lesen die City Starlights im Garten 1\, am Ort der Stille und am Ziegengehege.  \nDer Park freut sich\, auch Erzähler vom Haus der Märchen und Geschichten e.V. bei der Veranstaltung begrüßen zu können. Es gibt keine Requisiten\, keine Bühnenbilder – nur die Geschichte\, den Erzähler\, den Zuhörer. So werden Märchenträume wahr. Gelesen wird im Hans-Meyer-Garten\, im Schachgarten und am Unterstand. Natürlich wird auch der Gestiefelte Kater nicht fehlen. Das Animationsteam des Brückenkopf-Parks hat sich wieder etwas Besonderes für ihre kleinen Besucher einfallen lassen. Es werden Kronen für Prinzen und Prinzessinnen gebastelt. Es gibt einen Geschicklichkeitsparcours „Küss den Frosch“ und märchenhafte Ausmalbilder. \nParallel zu den Märchenträumen findet das Zoofest statt. Über 100 Tierarten sind in dem Brückenkopf-Zoo beheimatet. Neben den Erdmännchen\, Wölfen\, Ponys\, Ziegen und Wallabys sind sicher die Otter mit ihrem Nachwuchs\, Marder und Waschbären ein Highlight. Auch in diesem Jahr beteiligt sich der Naturschutzbund NABU an der Veranstaltung. Schwerpunktthema wird der „Wolf“ sein. Für die Kleinen gibt es wieder besondere Aktionen.  \nInformationen und ein Blick hinter die Kulissen der täglichen Zooarbeit bereichern ein buntes Programm. Am „Zoo-Erlebnis-Tisch“ erhalten Besucher unter anderem einen detaillierten Blick auf verschiedene „tierische“ Utensilien sowie zahlreiche Vogeleier. Der Brückenkopf-Verein stellt sich und seine Arbeit an einem Informationsstand im Zoo-Kernbereich vor. Es gelten die normalen Eintrittspreise. \n
URL:https://www.herzog-magazin.de/event/brueckenkopf-park-maerchentraeume-und-zoofest/
LOCATION:Brückenkopf-Park Jülich\, Rurauenstraße 11\, Jülich\, NRW\, 52428\, Deutschland
GEO:50.923;6.34195
X-APPLE-STRUCTURED-LOCATION;VALUE=URI;X-ADDRESS=Brückenkopf-Park Jülich Rurauenstraße 11 Jülich NRW 52428 Deutschland;X-APPLE-RADIUS=500;X-TITLE=Rurauenstraße 11:geo:6.34195,50.923
CATEGORIES:Festival & Markt,für Familien,für Kinder,Informationsveranstaltung,Literatur,Theater,Tiere
ATTACH;FMTTYPE=image/jpeg:https://www.herzog-magazin.de/wp-content/uploads/2022/07/Märchen_Zoofest_1-Netz.jpg
ORGANIZER;CN="Br%C3%BCckenkopf%20Park":MAILTO:info@brueckenkopf-park.de
END:VEVENT
END:VCALENDAR