    BEGIN:VCALENDAR
VERSION:2.0
PRODID:-//HERZOG Kultur- &amp; Stadtmagazin - ECPv4.9.2//NONSGML v1.0//EN
CALSCALE:GREGORIAN
METHOD:PUBLISH
X-WR-CALNAME:HERZOG Kultur- &amp; Stadtmagazin
X-ORIGINAL-URL:https://www.herzog-magazin.de
X-WR-CALDESC:Veranstaltungen im HERZOG Kultur- &amp; Stadtmagazin
BEGIN:VEVENT
DTSTART;TZID=Europe/Berlin:20230610T100000
DTEND;TZID=Europe/Berlin:20230610T160000
DTSTAMP:20260421T174002
CREATED:20230601T175157Z
LAST-MODIFIED:20230601T175157Z
UID:107846-1686391200-1686412800@www.herzog-magazin.de
SUMMARY:BSG Jülich: Jubiläums-Spielfest
DESCRIPTION:Anlässlich seines 60-jährigen Jubiläums lädt die Betriebssportgemeinschaft Forschungszentrum Jülich 1963 e.V. zum Jubiläums-Spielfest ein. Dieses findet am Samstag\, 10. Juni\, von 10 Uhr bis 16 Uhr auf dem Jülicher Schlossplatz statt. \nDie Besucherinnen und Besucher erwartet unter anderem ein Kletterspielmobil\, ein Zauberer\, Fußball-Dart\, ein Action-Parcours\, Airbrush-Tattoo sowie eine Seifenblasen-Aktion. Für das leibliche Wohl ist mit Kaffee und Kuchen\, Popcorn sowie einer Grillstation gesorgt.  \n
URL:https://www.herzog-magazin.de/event/bsg-juelich-jubilaeums-spielfest/
LOCATION:Schlossplatz\, Jülich\, NRW\, 52428\, Deutschland
CATEGORIES:Essen & Trinken,Festival & Markt,für Familien,für Kinder,Sport
ATTACH;FMTTYPE=image/jpeg:https://www.herzog-magazin.de/wp-content/uploads/2023/06/BSG_Spielfest_2023.jpg
ORGANIZER;CN="Betriebssportgemeinschaft%20Forschungszentrum%20J%C3%BClich%201963%20e.V.%20%28BSG%29":MAILTO:bsg@fz-juelich.de
END:VEVENT
END:VCALENDAR