    BEGIN:VCALENDAR
VERSION:2.0
PRODID:-//HERZOG Kultur- &amp; Stadtmagazin - ECPv4.9.2//NONSGML v1.0//EN
CALSCALE:GREGORIAN
METHOD:PUBLISH
X-WR-CALNAME:HERZOG Kultur- &amp; Stadtmagazin
X-ORIGINAL-URL:https://www.herzog-magazin.de
X-WR-CALDESC:Veranstaltungen im HERZOG Kultur- &amp; Stadtmagazin
BEGIN:VEVENT
DTSTART;TZID=Europe/Berlin:20190702T190000
DTEND;TZID=Europe/Berlin:20190702T000000
DTSTAMP:20260425T150948
CREATED:20190611T054055Z
LAST-MODIFIED:20190611T054055Z
UID:25729-1562094000-1562025600@www.herzog-magazin.de
SUMMARY:Buchvorstellung: Villa Buth
DESCRIPTION:In Kirchberg bei Jülich befindet sich an der Ortsdurchfahrt\, hinter einer Ziegelmauer gelegen\, die ehemalige Fabrikantenvilla „Villa Buth“. Nur selten wurde ihre bemerkenswerte Geschichte in den Blick genommen. Dies mag unter anderem an einem dunklen Kapitel in der Geschichte der Villa liegen: 1941 wurde das Gebäude von den NS-Behörden beschlagnahmt. Es diente vom März 1941 bis Juli 1942 als „Judenhaus“ des damaligen Kreises Jülich sowie als Sammellager für die bevorstehende Deportation der jüdischen Bevölkerung in das Konzentrationslager Theresienstadt und anschließend in die Vernichtungslager. Sie war eine „Zwischenstation zum Holocaust“. Mit der Neuerscheinung werden die Ergebnisse eines hochinteressanten Schulprojektes vorgelegt\, das am Heilig-Geist-Gymnasium Würselen durchgeführt wurde. Neben den Aufsätzen der Schülerinnen und Schüler zu den verschiedenen Aspekten der Geschichte der Villa enthält die Publikation auch eine DVD mit einem gut 40-minütigen Film\, der die Ergebnisse des Schulprojektes anschaulich vermittelt. \nDas Buch wird mit der Vorführung des Films und einer anschließenden Podiumsdiskussion vorgestellt. \nTimo Ohrndorf und Iris Gedig (Hrsg.)\, Villa Buth – Zwischenstation zum Holocaust (Veröffentlichung des Jülicher Geschichtsvereins 1923 e.V.\, Band 22)\, Jülich 2019\, 232 Seiten\, zahlreiche Abbildungen\, ISBN 978-3-930808-20-5\, 15\,- €.\nBUCHVORSTELLUNG  DI 02|07\nJülicher Geschichtsverein 1923 | PZ Gymnasiums Zitadelle | 19:00 Uhr | Eintritt frei \n
URL:https://www.herzog-magazin.de/event/buchvorstellung-villa-buth/
LOCATION:PZ Gymnasium Zitadelle\, In der Zitadelle\, Jülich\, NRW\, 52428
GEO:50.9252978;6.3600112
X-APPLE-STRUCTURED-LOCATION;VALUE=URI;X-ADDRESS=PZ Gymnasium Zitadelle In der Zitadelle Jülich NRW 52428;X-APPLE-RADIUS=500;X-TITLE=In der Zitadelle:geo:6.3600112,50.9252978
CATEGORIES:Geschichte,Vortrag
ATTACH;FMTTYPE=image/jpeg:https://www.herzog-magazin.de/wp-content/uploads/2020/02/01-Papierfabrikant-Carl-Eichhorn.jpg
ORGANIZER;CN="J%C3%BClicher%20Geschichtsverein%201923%20e.V.":MAILTO:service@juelicher-geschichtsverein.de
END:VEVENT
END:VCALENDAR