    BEGIN:VCALENDAR
VERSION:2.0
PRODID:-//HERZOG Kultur- &amp; Stadtmagazin - ECPv4.9.2//NONSGML v1.0//EN
CALSCALE:GREGORIAN
METHOD:PUBLISH
X-WR-CALNAME:HERZOG Kultur- &amp; Stadtmagazin
X-ORIGINAL-URL:https://www.herzog-magazin.de
X-WR-CALDESC:Veranstaltungen im HERZOG Kultur- &amp; Stadtmagazin
BEGIN:VEVENT
DTSTART;TZID=Europe/Berlin:20220815T190000
DTEND;TZID=Europe/Berlin:20220815T190000
DTSTAMP:20260420T171718
CREATED:20220801T144020Z
LAST-MODIFIED:20220801T144020Z
UID:85518-1660590000-1660590000@www.herzog-magazin.de
SUMMARY:Bücherei Linnich: Tipps für den Lesesommer
DESCRIPTION:Die Bücherei in Linnich\, lädt zu Tipps für den Lesesommer in die neuen Räume am Kirchplatz 14\, ein. So werden Gudrun Kaschluhn und die Mitglieder ihrer Literaturkurse am Montag\, 15. August\, ab 19 Uhr ganz neue Romane\, Sachbücher\, Kinderbücher und so manch ungewöhnliche Lektüre vorstellen. Die vorgestellten Bücher können noch am gleichen Abend ausgeliehen werden. \nDer Eintritt ist frei. Eine Spende zu Gunsten der Bücherei wird gerne gesehen \n
URL:https://www.herzog-magazin.de/event/buecherei-linnich-tipps-fuer-den-lesesommer/
LOCATION:Katholische Bücherei Linnich\, Kirchplatz 14\, Linnich\, 52441\, Deutschland
CATEGORIES:kulturelle Bildung,Literatur
ATTACH;FMTTYPE=image/jpeg:https://www.herzog-magazin.de/wp-content/uploads/2022/08/Lesesommer-Bücherei-Linnich.jpg
END:VEVENT
END:VCALENDAR